BEGIN:VCALENDAR
VERSION:2.0
PRODID:-//Opera dhe Baleti Nacional - ECPv4.0.7//NONSGML v1.0//EN
CALSCALE:GREGORIAN
METHOD:PUBLISH
X-WR-CALNAME:Opera dhe Baleti Nacional
X-ORIGINAL-URL:https://operabalet.mk/al
X-WR-CALDESC:Events for Opera dhe Baleti Nacional
BEGIN:VEVENT
DTSTART;TZID="UTC+0":20240423T200000
DTEND;TZID="UTC+0":20240423T213000
DTSTAMP:20260423T160911
CREATED:20240403T105043
LAST-MODIFIED:20240403T105118
UID:746-1713902400-1713907800@operabalet.mk
SUMMARY:“LUTJET E TRUPIT TIM” -  TANC FEST (triptiku i baletit)
DESCRIPTION:\n23.04.2024 – 20:00\n“LUTJET E TRUPIT TIM” - TANC FEST (triptiku i baletit)\nIdeja e projektit dhe kostumografi: Aleksandar Noshpal\nDramaturg: Sonja Zdravkova-Xheparoska\nSkenografi: Mihaljo Stojanovski\nArtisti vizuel: Florian Çanga (Shqipëri)\nMontazhi i filmit: Dorijan Milovanoviq\nMultimedia dhe dizajn grafik: Laze Tripkov\nLexim poezish: Nikolla Ristanovski\nAsistente kostumografe: Angela Bogeska\nDrita: Jakup Jakup\, Nino Mitevski\, Pero Maraçkov\nCIKLI LINDJE\nKoreograf: Ivana Kocevska\nKompozitor: Darija Andovska\nCIKLI GËRSHETIMI\nKoreograf: Adrijana Dançevska\nKompozitor: Aleksandar Grozdanovski\nCIKLI NGAZËLLIMI\nKoreograf: Sasha Evtimova\nKompozitor:Aleksandar Pejovski\nAsistent Koreografi: Ksenija Sinxhiq (Mali i Zi)\nInterpretojnë: dirigjent Sasho Tatarçevski me Korin e femrave pranë Qendrës kulturore të të rinjve\, solist: Katerina Gërkovska (soprano)\, organon: Janinka Nevçeva\, harpa: Sara Mejs\, piano\, orkestra frymor. Incizuesi tonik: Alen Haxhistefanov. Është shfrytëzuar muzika nga albumi FIROM Rekuiem\nMARRIN PJESË SOLISTË PRANË BALETIT TË OPERËS DHE BALETIT NACIONAL\n... Shfaqja e baletit "Lutjet e trupit tim" është një përditësim teatror i ciklit poetik me të njëjtin emër të Aco Shopov\, botuar në vitin 1963 në përmbledhjen "Zbrazëtira" (ndoshta më e mira/më kompaktet në veprën e autorit). Në distancën prej gjashtë dekadash\, leximi i sotëm i poezive nga ky cikël antologjik - intim në imponim\, por edhe radikal në synimet e tij poetike\, më saktë: në qëndrimin polemik ndaj kohës së tij - tregon pothuajse të njëjtat mosmarrëveshje që ndajmë sot: identitare\, emocionale\, ekzistenciale…\n
URL:https://operabalet.mk/al/event/lutjet-e-trupit-tim-tanc-fest-triptiku-i-baletit/
LOCATION:Array
CATEGORIES:Balet
ATTACH;FMTTYPE=image/jpeg:https://operabalet.mk/al/wp-content/uploads/sites/3/2023/11/web-Molitvi-na-moeto-telo-final-copy.jpg
END:VEVENT
END:VCALENDAR