BEGIN:VCALENDAR
VERSION:2.0
PRODID:-//Opera dhe Baleti Nacional - ECPv4.0.7//NONSGML v1.0//EN
CALSCALE:GREGORIAN
METHOD:PUBLISH
X-WR-CALNAME:Opera dhe Baleti Nacional
X-ORIGINAL-URL:https://operabalet.mk/al
X-WR-CALDESC:Events for Opera dhe Baleti Nacional
BEGIN:VEVENT
DTSTART;TZID="UTC+0":20230204T200000
DTEND;TZID="UTC+0":20230204T210000
DTSTAMP:20260423T161018
CREATED:20230125T134346
LAST-MODIFIED:20230125T134346
UID:584-1675540800-1675544400@operabalet.mk
SUMMARY:MBRËMJE ME BLLAGOJ NACOSKIN – 20 VJETËT E PARA
DESCRIPTION:\nKoncert i Bllagoj Nacoskit\, tenor\n 4 shkurt 2023 – ora 20\nOpera dhe Baleti Nacional\n“Mbrëmje me Bllagoj Nacoskit: 20 vjetët e pare”\nJaninka Nevçeva\, bashkëpunëtore në piano\n\nMarrin pjesë:\nNade Talevska\, soprano\nVasko Zdravkov\, bariton\nUdhëheqës: Ognen Janeski\n\nProgrami:\n\n\n\tZhill Masne - Ëndrra e De Grie nga opera "Manon"\n\tGaetano Doniceti – Aria e Nemorino nga opera "Pija e dashurisë"\n\tXhoakino Rosini – Aria e Figaros nga opera "Berberi i Seviljes"\n\tXhoakino Rosini – duet i Kontit Almaviva dhe Figaro nga opera "Berberi i Seviljes"\n\tXhuzepe Verdi - arie e Dukës së Mantovës nga opera "Rigoleto"\n\tFrancesko Çilea – britma e Federikos nga opera "Arlesiana"\n\tXhakomo Puçini – Aria e Muzetës nga opera "Bohemia"\n\tXhakomo Puçini – dueti i Mimit dhe Rodolfo nga opera “Bohemia”\n\tXhakomo Puçini – Aria e Kavaradosit nga opera “Toska”\n\tStanislao Gastaldon – Muzika e ndaluar\n\tRuxhero Leonkavallo – Serenata e mëngjesit\n\tAlesandro D'Agostini – Suita Maqedoni\n
URL:https://operabalet.mk/al/event/mbremje-me-bllagoj-nacoskin-20-vjetet-e-para/
LOCATION:Array
CATEGORIES:Koncert
ATTACH;FMTTYPE=image/jpeg:https://operabalet.mk/al/wp-content/uploads/sites/3/2021/12/blagoj_web.jpg
END:VEVENT
END:VCALENDAR