BEGIN:VCALENDAR
VERSION:2.0
PRODID:-//Opera dhe Baleti Nacional - ECPv4.0.7//NONSGML v1.0//EN
CALSCALE:GREGORIAN
METHOD:PUBLISH
X-WR-CALNAME:Opera dhe Baleti Nacional
X-ORIGINAL-URL:https://operabalet.mk/al
X-WR-CALDESC:Events for Opera dhe Baleti Nacional
BEGIN:VEVENT
DTSTART;TZID="UTC+0":20210319T190000
DTEND;TZID="UTC+0":20210319T195000
DTSTAMP:20260423T192828
CREATED:20210315T204010
LAST-MODIFIED:20210317T104306
UID:394-1616180400-1616183400@operabalet.mk
SUMMARY:MBRËMJE ROMANTIKE E BALETIT (19.3.2021)
DESCRIPTION:\nLAJMERIM I RENDESISHEM!\n Për shkak të situatës aktuale të shkaktuar nga pandemia me\n Covid-19 dhe numri në rritje i të sapo infektuarve\, ju informojmë se shfaqjet e baletit\n "MBRËMJE ROMANTIKE E BALETIT"\n të planifikuar për në 19 dhe 26 Mars janë NDALUAR!\n Ne gjithashtu do të informojmë publikun për datat e reja.\n Faleminderit për mirëkuptimin\n Me respekt\,\n Opera dhe Baleti Kombëtar i NI\nKoreograf: August Burnonvil (Danimarkë)\nMuzika: H.S. Pauli\, H.K. Lumbie\, V. K. Holm\, E. Helsted\nE vënë në skenë dhe në regji të Eva Kloberg dhe Frank Andersen (Danimarkë)\nSkenograf: Zoran Nikollovski\nKostumograf: Marija Pupuçevska\nAsistente e producentëve: Sasha Evtimova\nRepetitorë: Sasha Evtimova\, Goran Bozhinov\, Aleksandra Mijallkova\, Lora Tarçugovska\, Dafina Danilloska Koçovska\n“Konservatoriumi”\nMjeshtër: Igor Valanovski\nDy vajzat: Ivana Kocevska\, Ivana Dimkoska\nBurrat: Miro Mitrashinoviq\, Ballash Llasheiu (Hungari)\, Endru Kuk (Angli)\, Nikolla Oroso\nAnsambli:\nVajzat: Simona Mitkovska\, Hristina Naqevska\, Mila Ninovska\, Ilijana Danillova\, Angella Bogatinova\, Bojan Hristovski\, Violeta Krajanova\, Mellanija Gocevska\, Andrijana Bogatinoska\, Matea Karevski\, Isidora Kitanoviq\, Eva Perkovska\, Martina Dimovska\, Anja Filipova\, Eva Xhingova.\n“La Ventana”\nSenjorita: Mimi Pop Aleksova Atanasovska\nSinjor: Bobasn Kovaçevski\nPasqyra: Sasha Evtimov\nPa de troa:Hristina Naqevska\, Bojana Hristovska\, Endru Kuk (Angli) (Simona Mitkovska)\nAnsambli:\nGratë: Sllavica Misheva\, Cece Maksimovska\, Bistra Ivanova\, Brankica Joveska\, Andrijana Bogatinoska\, Teodroa Stavrevska\nBurrat: Agim Baftii\, Martin Sazdovski\, Kristijan Jangos\, Salvatore Laudani\, Borjan Tetiev\, Marko Arsov\nVËREJTJE:\n*Ngjarja do të mbahet sipas protokolit të paraparë me gjendjen momentale të krijuar nga pandemija Kovid-19 për mbajtjen e ngjarjeve\,të lejuara nga Komisioni për sëmundjet infektive.Obligative është mbajtja e maskës mbrojtëse.\nJu lutemi për respektimin e masave mbrojtëse.\n*Orari i biletave online është në çifte me dy vende pranë njëri-tjetrit\, për shembull vendet 5 dhe 6\, 2 të lira\, pastaj 9 dhe 10 janë në shitje. Nëse keni nevojë për një biletë të vetme ose një kombinim të 3 vendeve të bashkuara \, ju lutemi na kontaktoni në numrin e telefonit\n078 426 536.
URL:https://operabalet.mk/al/event/mbremje-romantike-e-baletit-19-3-2021/
LOCATION:Array
CATEGORIES:Balet,Koncert
ATTACH;FMTTYPE=image/jpeg:https://operabalet.mk/al/wp-content/uploads/sites/3/2021/03/burnonvil2.jpg
END:VEVENT
END:VCALENDAR