BEGIN:VCALENDAR
VERSION:2.0
PRODID:-//Opera dhe Baleti Nacional - ECPv4.0.7//NONSGML v1.0//EN
CALSCALE:GREGORIAN
METHOD:PUBLISH
X-WR-CALNAME:Opera dhe Baleti Nacional
X-ORIGINAL-URL:https://operabalet.mk/al
X-WR-CALDESC:Events for Opera dhe Baleti Nacional
BEGIN:VEVENT
DTSTART;TZID="UTC+0":20210602T200000
DTEND;TZID="UTC+0":20210602T210000
DTSTAMP:20260423T192829
CREATED:20210521T093946
LAST-MODIFIED:20210521T093946
UID:410-1622664000-1622667600@operabalet.mk
SUMMARY:MBREMJE ROMANTIKE E BALETIT (2.6.2021)
DESCRIPTION:\nKoreograf: August Burnovil (Danimarkë)\nMuzika: H.S. Pauli\, H.K. Lumbie\, V. K. Holm\, E. Helsted\nRegjia: Eva Kloberg dhe Frank Anderse (Danimarkë)\nSkenograf: Zoran Nikollovski\nNdriçimi dhe dizajni: Millço Aleksandrov\nKostumograf: Marija Pupuçevska\nAsistent i producentëve: Sasha Evtimova\nRepetitorë: Goran Bozhinov\, Lora Tarçugovska\, Sasha Evtimova\, Dafina Danilloska Koçovska\n“Konservatoriumi”\nMaster: Ballazh Llashei (Hungari)\nDy vajzat: Hristina Naqevska\, Simona Mitovska\nBurrat: Miro Mitrashinoviq\, Endru Kuk (angli)\, Nikolla Orso\, Jan Kisilev\nAnsambli:\nVajzat: Angella Velevska\, Milla Ninovska\, Ilijana Danillova\, Angella Bogatinova\, Bojana Hristovska\, Ivana Dimkoska\, Andrijana Bogatinovska\, Violeta Karajanova\, Teodora Stavrevska\, Melanija Gocevska\, Matea Karevski\, Martina Dimovska\, Eva Xhingova\n“La Ventana”\nSenjorita: Mimi Pop Aleksova Atanasovska\nSenjor: Boban Kovaçevski\nPasqyra: Sasha Evtimova\nPa de troa: Ilijana Danillov\, Martina Dimkoska\, Ballazh Leshei (Hungarie)\, Vili Karajanova\nAnsambli:\nGratë: Sllavica Misheva\, Cece Maksimoska\, Bistra Ivanova\, Brankica Joveska\, Andrijana Bogatinoska\, Teodora Stavrevska\nBurrat: Agim Baftii\, Martin Sazdovski\, Kristijan Jangos\, Salvatore Laudani\, Borjan Tetiev\, Marko Arsov\n***********************************************\nVërejtje:\nEventi do të realizohet sipas protokolleve të parapara me gjendjen momentale të shkaktuar nga pandemia Kovid 19\, protokolle këto të miratuara nga Komisioni për sëmundje ngjitëse. Është e domosdoshme mbajtja e maskave. Ju lutem t’i respektoni masat për mbrojtje.\nOrari i biletave onlajn është në çift prej dy ulëseve\, për shembull\, ulëset 5 dhe 6\, dy ulëse janë të lira dhe pastaj vijnë ulëset 9 dhe 10 e kështu me
URL:https://operabalet.mk/al/event/mbremje-romantike-e-baletit-2-6-2021/
LOCATION:Array
CATEGORIES:Balet
ATTACH;FMTTYPE=image/jpeg:https://operabalet.mk/al/wp-content/uploads/sites/3/2021/03/burnonvil2.jpg
END:VEVENT
END:VCALENDAR