BEGIN:VCALENDAR
VERSION:2.0
PRODID:-//Opera dhe Baleti Nacional - ECPv4.0.7//NONSGML v1.0//EN
CALSCALE:GREGORIAN
METHOD:PUBLISH
X-WR-CALNAME:Opera dhe Baleti Nacional
X-ORIGINAL-URL:https://operabalet.mk/al
X-WR-CALDESC:Events for Opera dhe Baleti Nacional
BEGIN:VEVENT
DTSTART;TZID="UTC+0":20210528T200000
DTEND;TZID="UTC+0":20210528T210000
DTSTAMP:20260423T204915
CREATED:20210517T145433
LAST-MODIFIED:20210519T113504
UID:403-1622232000-1622235600@operabalet.mk
SUMMARY:MBREMJE ROMANTIKE E BALETIT (28.5.2021)
DESCRIPTION:\n“Mbrëmje romantike e baletit”\n28. 5. 2021\, ora 20\, Salla e Operës dhe Baletit Kombëtar\nKoreograf: August Burnovil (Danimarkë)\nMuzika: H.S. Pauli\, H.K. Lumbie\, V. K. Holm\, E. Helsted\nRegjia: Eva Kloberg dhe Frank Anderse (Danimarkë)\nSkenograf: Zoran Nikollovski\nKostumograf: Marija Pupuçevska\nAsistent i producentëve: Sasha Evtimova\nRepetitorë: Goran Bozhinov\, Lora Tarçugovska\, Sasha Evtimova\, Dafina Danilloska Koçovska\n“Konservatoriumi”\nMaster: Ballazh Llashei (Hungari)\nDy vajzat: Ivana Kocevska\, Ivana Dimkoska\nBurrat: Miro Mitrashinoviq\, Endru Kuk (angli)\, Nikolla Orso\, Jan Kisilev\nAnsambli:\nVajzat: Hristina Naqevska\, Angella Velevska\, Milla Ninovska\, Simona Mitovska\, Ilijana Danillova\, Angella Bogatinova\, Bojana Hristovska\, Violeta Karajanova\, Teodora Stavrevska\, Melanija Gocevska\, Matea Karevski\, Aleksandra Bogatinoska\, Isidora Kitanoviq\, Martina Dimovska\, Eva Xhingova\n“La Ventana”\nSenjorita: Marija Kiçevska Shokarovska\nSenjor: Boban Kovaçevski\nPasqyra: Sasha Evtimova\nPa de troa: Hristina Naqevska\, Bojana Hristovska\, EndruKuk (Angli)\nAnsambli:\nGratë: Sllavica Misheva\, Cece Maksimoska\, Bistra Ivanova\, Brankica Joveska\, Andrijana Bogatinoska\, Teodora Stavrevska\nBurrat: Agim Baftii\, Nartin Sazdovski\, Kristijan Jangos\, Salvatore Laudani\, Borjan Tetiev\, Marko Arsov\n***********************************************\nVërejtje:\nEventi do të realizohet sipas protokolleve të parapara me gjendjen momentale të shkaktuar nga pandemia Kovid 19\, protokolle këto të miratuara nga Komisioni për sëmundje ngjitëse. Është e domosdoshme mbajtja e maskave.\nJu lutem t’i respektoni masat për mbrojtje.\nOrari i biletave onlajn është në çift prej dy ulëseve\, për shembull\, ulëset 5 dhe 6\, dy ulëse janë të lira dhe pastaj vijnë ulëset 9 dhe 10 e kështu me radhë. Nëse keni nevojë vetëm për një biletë ose kombinim prej tri ulëseve të bashkuara\, Ju lutemi na kontaktoni në numrin 078 426 536.
URL:https://operabalet.mk/al/event/mbremje-romantike-e-baletit-28-5-2021/
LOCATION:Array
CATEGORIES:Balet
ATTACH;FMTTYPE=image/jpeg:https://operabalet.mk/al/wp-content/uploads/sites/3/2021/03/burnonvil2.jpg
END:VEVENT
END:VCALENDAR