BEGIN:VCALENDAR
VERSION:2.0
PRODID:-//Opera dhe Baleti Nacional - ECPv4.0.7//NONSGML v1.0//EN
CALSCALE:GREGORIAN
METHOD:PUBLISH
X-WR-CALNAME:Opera dhe Baleti Nacional
X-ORIGINAL-URL:https://operabalet.mk/al
X-WR-CALDESC:Events for Opera dhe Baleti Nacional
BEGIN:VEVENT
DTSTART;TZID="UTC+0":20241214T200000
DTEND;TZID="UTC+0":20241214T230000
DTSTAMP:20260423T150303
CREATED:20241211T144052
LAST-MODIFIED:20241211T144402
UID:831-1734206400-1734217200@operabalet.mk
SUMMARY:“MBRETËRESHA E SPADES” – PETAR ILIÇ ÇAJKOVSKI (14.12.2024)
DESCRIPTION:\n“Mbretëresha e Spades”\nOpera në tre akte nga P. I Çajkovski\nOPERA SHTETËRORE E VARNËS\nDirigjent: Grigor Palikarov\nRegjisore: Vera Nemirova\nSkenograf dhe kostumograf: Julijan Tabakov\nKoreografe: Ana Pampulova\nDirigjente e korit: Teodora Georgieva\nMarrin pjesë:\nHermani: Valerij Georgiev\nLiza: Irina Zhekova\nKontesha: Bojka Vasileva\nKonti Tomski/ Zlatogo: Plamen Dimitrov\nKnez Jelecki: Ivo Jordanov\nÇekalinski: Plamen Rajkov\nSurin: Evgenij Stanimirov\nÇaplicki: Velin Mihajllov\nNarumov: Petar Petrov\nUdhëheqës: Vlladisllav Vlladimirov\nPolina/ Milovzo: Mihaella Berova\nGuvernantja: Vjara Zhelezova\nMasha: Galina Velikova\nPrilepa: Lilija Ilieva\nSolistët\, orkestri\, kori dhe baleti i Operës Shtetërore të Varnës\n \nNë analizën e saj të veprës Vera Nemirova\, thekson se\, nëse në vitin 2007 ka kërkuar lexim më të realt të “Mbretëreshës së Spades”\, tani kërkesat e saj në produksionin e Operës Shtetërore të Varnës\, janë padyshim në fushëveprimin e dramës psikologjike.\nNdryshe nga romani i Pushkinit\, në të cilin heroi Hermani është paraqitur si i pashpirtë dhe i parashikuar\, P.I. Çajkovski e pajisi me mbindjeshmëri të pasur\, të rrezikshme për veten dhe shoqërinë.\nPerson i ndarë\, në hamendje ndërmjet dy pasioneve: dashurisë së tij të pamundur për Lizën dhe pasionit të tij për lojërat e fatit.\nDeri në momentin kur pasioni për lojën e pushton plotësisht\, ai mbart simpatinë e shikuesit. Megjithatë\, te ai mbizotëron gjithnjë e më shumë pasioni për lojën dhe fitimin dhe harron qëllimin e tij fillestar: të luftojë për dashurinë e tij.\nNë dallim prej tij\, Liza e ndjek qëllimin e saj deri në fund\, duke i premtuar se do ta lidhë jetën e saj me Hermanin\, edhe nëse ai është kriminel. Me çmimin e humbjes së vetvetes\, ajo shkon te ai me gjithë qenien e saj. Këtu ndryshojnë rrugët e tyre dhe meridiani që i lidh dhe i ndan është fati i konteshës së vjetër.\nE mëparshmja\, “Venera e Moskës”\, lojtare e famshme sociale dhe e pasionuar\, te Hermani e sheh engjëllin e saj të vdekjes dhe ai e sheh atë si hologram. Balada e Tomskit parashikon që kontesha do të marrë sulm të vdekjes nga kushdo që vjen për të mësuar sekretin e tre letrave fituese\, ato janë të lidhura me fatin.\nTrekëndëshi i dashurisë së Erosit dhe vdekjes ngatërron Hermanin\, Konteshën dhe Lizën dhe çon në një fund fatal për të tre.\nVetë Çajkovski është pjesë e heroit të të gjithëve. Te secili prej heronjve të tij gjenden silueta të karakterit të tij kompleks dhe shumë të vuajtur.\nPër shkak të kësaj\, “Mbretëresha e Spades” është para së gjithash dramë e fortë psikologjike\, dhe së dyti dhe jo më pak e rëndësishme\, është tragjedi sociale tronditëse në të cilën një person i varfër dhe i zakonshëm si Hermani\, nuk ka vend dhe të drejtë të dashurojë në botën e të pasurve.
URL:https://operabalet.mk/al/event/mbreteresha-e-spades-petar-ilic-cajkovski-14-12-2024-2000/
LOCATION:Array
CATEGORIES:Оperë
ATTACH;FMTTYPE=image/png:https://operabalet.mk/al/wp-content/uploads/sites/3/2024/12/pikova_dama.png
END:VEVENT
END:VCALENDAR