BEGIN:VCALENDAR
VERSION:2.0
PRODID:-//Opera dhe Baleti Nacional - ECPv4.0.7//NONSGML v1.0//EN
CALSCALE:GREGORIAN
METHOD:PUBLISH
X-WR-CALNAME:Opera dhe Baleti Nacional
X-ORIGINAL-URL:https://operabalet.mk/al
X-WR-CALDESC:Events for Opera dhe Baleti Nacional
BEGIN:VEVENT
DTSTART;TZID="UTC+0":20190327T200000
DTEND;TZID="UTC+0":20190327T205500
DTSTAMP:20260424T061822
CREATED:20190313T154214
LAST-MODIFIED:20190313T154219
UID:298-1553716800-1553720100@operabalet.mk
SUMMARY:MIDIS ËNDËRRAVE DHE FLUTURIMEVE - GORAN NAÇEVSKI
DESCRIPTION:
URL:https://operabalet.mk/al/event/midis-enderrave-dhe-fluturimeve-goran-nacevski/
LOCATION:Bulevar Goce Dellçev 4\, Shkup\, 1000\, Macedonia
CATEGORIES:Оperë
ATTACH;FMTTYPE=image/jpeg:https://operabalet.mk/al/wp-content/uploads/sites/3/2019/03/sonista-i-letovi.jpg
END:VEVENT
END:VCALENDAR