BEGIN:VCALENDAR
VERSION:2.0
PRODID:-//Opera dhe Baleti Nacional - ECPv4.0.7//NONSGML v1.0//EN
CALSCALE:GREGORIAN
METHOD:PUBLISH
X-WR-CALNAME:Opera dhe Baleti Nacional
X-ORIGINAL-URL:https://operabalet.mk/al
X-WR-CALDESC:Events for Opera dhe Baleti Nacional
BEGIN:VEVENT
DTSTART;TZID="UTC+0":20221021T200000
DTEND;TZID="UTC+0":20221021T223000
DTSTAMP:20260424T001944
CREATED:20220915T100630
LAST-MODIFIED:20220921T091152
UID:523-1666382400-1666391400@operabalet.mk
SUMMARY:NORMA – VIÇENCO BELINI (21.10.2022)
DESCRIPTION:\nNorma – Viçenco Belini\n(21.10.2022\, 0ra 20)\n \nDirigjent: Ivan Eminoviq\nRegjia: Renato Bonajuto (Itali)\nAsistent regjie: Tereza Gargano (Itali)\nSkenograf dhe kostumograf: Flavio Arbeti (Itali)\nKoautor i kostumeve: Marija Pupuçevska\nKor mjeshtër: Gjurgjica Dashiq\nAsistent regjie: Trajko Jordanovski\, Lupka Jakimovska\nAsistent dirigjenti: Katerina Stojkovska\nAsistent kostumograf: Angela Bogeska\nKonceret mjeshtër:\nTrajneri vokali: Pelagija Çerneva Panajotova\nKorepetitorë: Elena Siljanoska\, Janinka Nevçeva\, Andreja Naunov\, Jordan Petrushevski\nInspicientë: Lupço Polizo\, Dragan Kostadinoviq\, Marko Pavlevski\nSufler: Nevena Georgieva\nMarrin pjesë:\nNorma: Vesna Gjinovska Ilkova\nPolione: Zoran Sotirov\nAdalxhiza: Sandra Mitrovska\nOrovezo: Vlladimir Sazdovski\nKlotilda: Sonja Pendovska Madevska\nFlavio: Dejan Stoev\nFëmijët: Vasilij dhe Stefan Dashiq\nMarrin pjesë kori dhe orkestra e Operës dhe Baletit Kombëtar\n\nSinopsis:\n\nAKTI I\n\nDruidët\, të prirë nga udhëheqësi i tyre\, Orovezo\, i luten zotit të tyre\, Irminsulit\, që ta inspirojë të bijën e Orovezos\, Normën\, të sinjalizojë kryengritje kundër forcave okupuese romake. Polioni\, prokonsulli romak\, i tregon bashkëpunëtorit të tij\, Flavios\, se dashuria e tij ndaj Normës është ftohur\, edhe pse ajo i kishte lindur dy fëmijë. Dëshira e tij e re është Adalxhiza\, priftëreshë në tempullin Irmunsul. Ai frikësohet nga urrejtja e Normës kur ajo kupton për tradhtinë e tij dhe e përshkruan ëndrrën e tij të tmerrshme për të ardhmen me Adalxhizen. Druidët serish tubohen dhe mezi presin të përballen me armikun e tyre. Norma është e irrituar nga padurimi i tyre\, duke u thënë se nuk është koha për hakmarrje. Ajo fshehtas pranon se\, edhe pse ka fuqi për ta dënuar Polionen për largimin e tij prej saj\, ajo do ta kishte mbrojtur me jetën e tij nëse ai do të kthehej te ajo. Adalxhiza dhe Polioni takohen\, por Adalxhiza thotë se ka vendosur të ndahet prej Polionit dhe të kthehet në tempullin e saj. Ajo thotë se në mëngjes do të shkojë në Romë dhe e detyron ta shoqërojë. Norma është e shqetësuar dhe e ndarë midis dashurisë dhe urrejtjes ndaj Polionit dhe fëmijëve të saj. Ajo kupton se ai është ftuar në Romë\, por të besuarës së saj\, Klotildës\, i thotë se nuk është e sigurt se a do ta marrë me vete. Me frikë të madhe\, Adalxhiza i pranon Normës se është dashuruar dhe se në këtë mënyrë i ka zhgënjyer betimet e saja të shenjta.\nNë fillim\, e pavetëdijshme për identitetin e dashnorit të Adalxhizes\, Norma e bashkëndjen vuajtjen e saj: rrëfimi që Adalxhize e tregon për rrjedhën e dashurisë së saj\, te Norma zgjon kujtime të bukura nga ditët e mëhershme për lidhjen e saj me Polionin. Ajo e fal Adalxhizen dhe e liron nga besëlidhja e shenjtë. Kur Norma kupton se Adalxhiza është ajo të cilën Polioni e dashuron\, ajo lëshon mallkimin e saj – por jo ndaj Adalxhizes\, por ndaj Polionit. Adalxhize është tejet e shqetësuar me perfiditetin e Polionit dhe\, edhe përkundër dhimbjes së saj të madhe\, ajo betohet se do ta kthejë Polionin te Norma dhe fëmijët e tyre. Derisa Norma është e ftuar te altari\, Adalxhize ia tërheq vërejtjen Polionit\, duke i thënë se zëri i Irminsulit po e kurdis vdekjen e tij. Me këtë Polioni sfidohet.\n\nAKTI II\n\nNorma\, e thyer shpirtërisht\, mendon t’i vrasë fëmijët e saj. Por\, për shkak të dashurisë ndaj tyre\, ajo ndërron mendjen. Në vend të kësaj\, ajo vendos ta dënojë veten për mëkatet e bëra dhe i shkon mendja të bëjë vetëvrasje. Paraprakisht\, ajo fëmijët ia beson Adalxhizes\, duke i kërkuar që t’i dërgojë në llogorin romak dhe\, për shkak të ardhmërisë së fëmijëve\, Polionin ta pranojë së burrë të saj. Por\, Adalxhiza mundohet ta bindë se akoma ka mundësi për një përfundim të mirë: ajo do të shkojë në kamp dhe do ta bind Polionin të kthehet te Norma. Në fund\, Norma lëshon pe dhe e pranon propozimin e Adalxhizes. Druidët mendojnë se koha e tyre do të vijë kur të shkojë Polioni. Orovezo sjell lajme të këqija: prokonsulli i ardhshëm do të jetë më i ashpër se Polioni. Norma mundohet ta bindë veten se Polioni do t’i kthehet\, por Klotilda  ka një lajm që i rrëzon të gjitha iluzionet: misioni i Adalxhizes është i pasuksesshëm. Më në fund\, Norma e ngre popullin e vet në luftë\, duke theksuar se shqiponja e fortë romake do të shkatërrohet. Kërkohet vetëm ai që do të flijohet. Klotilda lajmëron se tempulli është ndotur nga një romak\, i cili ishte kapur rob në manastirin e shenjtë të virgjëreshave. Ai është Polioni. Orovezo dhe druidët e cytin Normën që ta shkatërrojë Polionin\, por ajo nuk i bindet këtyre thirrjeve. Ajo i thotë se do t’ia kursejë jetën nëse betohet se do të tërhiqet nga Adalxhiza. Por\, ai e kundërshton dhe i thotë se është i gatshëm të vdesë. Ajo i thotë jo vetëm se do të vdesë\, por edhe të gjithë romakët do të theren e njëkohësisht edhe Adalxhiza\, e cila duhet të vdesë në zjarr\, sepse nuk e ka respektuar besëlidhjen e shenjtë. Polioni e lut Normën që të ketë mëshirë ndaj Adalxhizes\, pavarësisht fatit të tij. Norma i fton druidët dhe paralajmëron një flijim të ri: priftëreshën e cila nuk e ka respektuar besëlidhjen e shenjtë\, duke tradhtuar popullin e saj dhe zotat. Ajo u urdhëro priftërinjve që ta përgatisin ritualin e flijimit. Duke e shikuar viktimën e saj\, dashuria e Polionit ndaj Normës sërish ndizet. Ajo thotë se do të vdesë bashkë me të dhe kërkon falje. Orovezo distancohet nga e bija e tij\, duke e lutur të ketë mëshirë ndaj fëmijëve të saj. Bashkë\, Norma dhe Polioni shkojnë të flijohen.\n\n\n
URL:https://operabalet.mk/al/event/norma-vicenco-belini-21-10-2022/
LOCATION:Array
CATEGORIES:Оperë
ATTACH;FMTTYPE=image/jpeg:https://operabalet.mk/al/wp-content/uploads/sites/3/2022/09/norma-web.jpg
END:VEVENT
END:VCALENDAR