BEGIN:VCALENDAR
VERSION:2.0
PRODID:-//Opera dhe Baleti Nacional - ECPv4.0.7//NONSGML v1.0//EN
CALSCALE:GREGORIAN
METHOD:PUBLISH
X-WR-CALNAME:Opera dhe Baleti Nacional
X-ORIGINAL-URL:https://operabalet.mk/al
X-WR-CALDESC:Events for Opera dhe Baleti Nacional
BEGIN:VEVENT
DTSTART;TZID="UTC+0":20240127T120000
DTEND;TZID="UTC+0":20240127T130000
DTSTAMP:20260423T190741
CREATED:20240117T153354
LAST-MODIFIED:20240117T153354
UID:721-1706356800-1706360400@operabalet.mk
SUMMARY:OPERA E KAFSHËVE TË PYLLIT (27.1.2024)
DESCRIPTION:\nOPERA E KAFSHËVE TË PYLLIT\n(SHFAQJE MUZIKORE INTERAKTIVE PËR FËMIJË)\nGrupi i synuar: fëmijë nga 6 - 11 vjeç\nKohëzgjatja e shfaqes 1 orë\nKoncepti ideor\, skenari dhe regjia: Desanka Gligorijeviq\nKostumografia dhe skenografia: Desanka Gligorijeviq\nInspicient: Dragan Kostadinoviq\nMjeshtër ndriçimi: Nino Mitevski\nMjeshtër toni: Bozhidar Ilijoski\, Dragi Dimitrovski\nMarrin pjesë:\nLiska–Biljana Kamçeva\nMeca–Marika Popoviq\nZajko – Janë Dunimagloski\nBuv – Neven Siljanovski\n\nNjë shfaqje muzikore-dramatike interaktive që synon të prezantojë/edukojë audiencën më të re\, kryesisht me terma që lidhen me artin operistik (kompozitor\, regjisor\, solist\, kor...)\nSkenari është i mbushur me shumë momente komike\, të cilat zhvillohen teksa kafshët e pyllit përpiqen të krijojnë një shfaqje operistike.\nPjesa muzikore është e mbushur me arie të popullarizuara\, të përshtatura nga operat: Karmen\, Palaçot\, Aida\, Traviata\, Rita dhe shumë arie të tjera dhe kompozime instrumentale me tekst të përshtatur si skenar.\n
URL:https://operabalet.mk/al/event/opera-e-kafsheve-te-pyllit-27-1-2024/
LOCATION:Array
CATEGORIES:Оperë
ATTACH;FMTTYPE=image/jpeg:https://operabalet.mk/al/wp-content/uploads/sites/3/2023/02/shumski_zivotni.jpg
END:VEVENT
END:VCALENDAR