BEGIN:VCALENDAR
VERSION:2.0
PRODID:-//Opera dhe Baleti Nacional - ECPv4.0.7//NONSGML v1.0//EN
CALSCALE:GREGORIAN
METHOD:PUBLISH
X-WR-CALNAME:Opera dhe Baleti Nacional
X-ORIGINAL-URL:https://operabalet.mk/al
X-WR-CALDESC:Events for Opera dhe Baleti Nacional
BEGIN:VEVENT
DTSTART;TZID="UTC+0":20210621T210000
DTEND;TZID="UTC+0":20210621T220000
DTSTAMP:20260423T192934
CREATED:20210616T125649
LAST-MODIFIED:20210616T125649
UID:414-1624309200-1624312800@operabalet.mk
SUMMARY:“ORKESTRA PËR PUBLIKUN” – VERA E SHKUPIT (21.6.2021)
DESCRIPTION:\n“ORKESTRA PËR PUBLIKUN”\n“OPERË PA FJALË”\n Koncert i orkestrës së Operës dhe Baletit Kombëtar\nHapja e Festivalit “Vera e Shkupit”\, 21.06. ora 21.00\nSalloni i Operës dhe Baletit Kombëtar\nDirigjentë: Bisera Çadllovska dhe Ivan Eminoviq\nRegjisor: Dejan Proshev\nInspicientë: Lupço Polizov\, Dragan Kostadinoviq\, Marko Pavlevski\n \nProgrami:\n\n\n\t Intermexo nga opera “Miku im Fric” – P.maskani\n\t Intermexo nga opera “Hovanshqina” – M. Musorgski\n\t Intermexo nga opera “Toska” – Xh. Puçini\n\t Uverturë nga opera “Dama pik” – P.I.Çajkovski\n\t Intermexo nga opera “Palaço” – P. Leonkavallo\n\t Uverture nga opera “Fausti” – Sh. Guno\n\t Intermexo nga opera Manon Lesko – Xh. Puçini\n\t Uverture nga opera “Norma” – V. Belini\n\t Intermexo nga opera “Madam Baterflaj” – Xh. Puçini\n\t Uverture nga opera “Forca e fatit” – Xh. Verdi\n
URL:https://operabalet.mk/al/event/orkestra-per-publikun-vera-e-shkupit-21-6-2021/
LOCATION:Array
CATEGORIES:Koncert
ATTACH;FMTTYPE=image/jpeg:https://operabalet.mk/al/wp-content/uploads/sites/3/2021/01/orkestar-efekt.jpg
END:VEVENT
END:VCALENDAR