BEGIN:VCALENDAR
VERSION:2.0
PRODID:-//Opera dhe Baleti Nacional - ECPv4.0.7//NONSGML v1.0//EN
CALSCALE:GREGORIAN
METHOD:PUBLISH
X-WR-CALNAME:Opera dhe Baleti Nacional
X-ORIGINAL-URL:https://operabalet.mk/al
X-WR-CALDESC:Events for Opera dhe Baleti Nacional
BEGIN:VEVENT
DTSTART;TZID="UTC+0":20210129T200000
DTEND;TZID="UTC+0":20210129T210000
DTSTAMP:20260423T192828
CREATED:20210120T110415
LAST-MODIFIED:20210127T125251
UID:349-1611950400-1611954000@operabalet.mk
SUMMARY:"Perlat e baletit" - Koncert baleti (29.1.2021)
DESCRIPTION:\n“PERLA BALETI” – Koncert baleti 29. 1. 2021\n1. Pas se qatre (muzika Cezar Punji\, koreografia Zhil Pero)\nSolistë: Ivan Kocevska\, Hristina Naqevska\, Ivana Dimkoska\, Violeta Krajanova.\n2. Silfida (muzika Herman Lovenskjold\, koreografia August Bornovil)\nSilfida: Mimi Pop Aleksova\nXhejms: Igor Velanoski\n3. Saracinë – shkëputje nga baleti Rajmonda (muzika Aleksandar Glazunov\, kororegrafia Marius Petipa)\nMarrin pjesë: Kristijan Jangos\, Martin Sazdovski\, Agim Baftii\, Salvatore Laudani\, Marko Arsov\n4. Panaderas – shkëputje nga baleti Rajmonda (muzika Aleksandar Gluznov\, koreografia Marius Petipa)\nAbdurahman: Balazh Lashei (Hungari)\nGratë: Cvetanka Maksimovska\, Marija Gligorova\, Sllavica Misheva\, Nikita Sobatkovskas\, Irena Makelarska\, Bistra Ivanova\, Ilijana Danilov\, Angela Bogatinova\, Teodora Stavrevska\, Martina Dimovska\n5. Bajadera (muzika Ludvig Minkus\, koreografia Marius Petipa)\nMonolog i Nikisë – Ivana Kocevska\n6. Vallëzimi i shpatave – shkëputje nga baleti Gajane (muzika Aram Haçetorijan)\nSolistë: Mirosllav Mitrashinoviq\,\nJan Kiselev\, Kristijan jangos\, Salvatore Laudani\, Agim Baftiii\, Marko Arsov\, Nikolla Orso\n7. Pahita (muzika E. Deldevez dhe L. Minkus\, koreografia M. Petipa)\nLucieni: Vasil Çiçiashvili (Gjeorgji)\nPa de troa: Andrijana Petkovski\, Bojana Hristovska\, Endru Kuk (Angli)\nDyshet dhe variacione: Hristina Naqevska\, Stefanija Geshtarska\, Mila Ninovska\, Bojana Hristovska\, Ilijana Danilov\, Ivana Dimkovska\, Melanija Gocevska\, Violeta Krajanova\, Eva Perkovska\nDyshet: Dijana Radevska\, Teodora Stavrevska\, Matea Karevski\, Andrijana Bogatinovska\, Isidora Kitanoviq\, Martina Dimoska\, Anja Filipova\nRepetitorë: Goran Bozhinov\, Lora Tarçugovska\, Biljana Pasharikovska\, Sasha Evtimova\n********************************************\nVËREJTJE:\n*Ngjarja do të mbahet sipas protokolit të paraparë me gjendjen momentale të krijuar nga pandemija Kovid-19 për mbajtjen e ngjarjeve\,të lejuara nga Komisioni për sëmundjet infektive.Obligative është mbajtja e maskës mbrojtëse.\nJu lutemi për respektimin e masave mbrojtëse.\n*Orari i biletave online është në çifte me dy vende pranë njëri-tjetrit\, për shembull vendet 5 dhe 6\, 2 të lira\, pastaj 9 dhe 10 janë në shitje. Nëse keni nevojë për një biletë të vetme ose një kombinim të 3 vendeve të bashkuara \, ju lutemi na kontaktoni në numrin e telefonit 078 426 536.
URL:https://operabalet.mk/al/event/perlat-e-baletit-koncert-baleti-29-1-2021/
LOCATION:Array
CATEGORIES:Balet,Koncert
ATTACH;FMTTYPE=image/jpeg:https://operabalet.mk/al/wp-content/uploads/sites/3/2021/01/balet-ansambl.jpg
END:VEVENT
END:VCALENDAR