BEGIN:VCALENDAR
VERSION:2.0
PRODID:-//Opera dhe Baleti Nacional - ECPv4.0.7//NONSGML v1.0//EN
CALSCALE:GREGORIAN
METHOD:PUBLISH
X-WR-CALNAME:Opera dhe Baleti Nacional
X-ORIGINAL-URL:https://operabalet.mk/al
X-WR-CALDESC:Events for Opera dhe Baleti Nacional
BEGIN:VEVENT
DTSTART;TZID="UTC+0":20250311T120000
DTEND;TZID="UTC+0":20250311T130000
DTSTAMP:20260423T144652
CREATED:20250307T090035
LAST-MODIFIED:20250307T090035
UID:881-1741694400-1741698000@operabalet.mk
SUMMARY:PITER PAN – SHFAQJE BALETI PËR FËMIJË (11.03.2025 -12:00)
DESCRIPTION:\nPITER PAN – SHFAQJE BALETI PËR FËMIJË (11.03.2025 -12:00)\nE SHITUR\nPITER PAN\nKoreograf: Xhejms Amar (Francë) Skenograf: Zoran Kostovski Kostumograf: Marija Pupuçevski Repetitorë: Dafina Daniloska Koçevska\, Sasha Evtimova\, Kiro Pavlov\, Biljana Basmaxhieva Kovaçevski Korepetitorë: Marjan Vasilevski\, Stefan Pehçevski Inspicientë: Dubravka Shopova\, Tijana Tarçugovska Georgieva\nPerformojnë solistët e baletit dhe Ansambli i Operës dhe i Baletit Nacional.\nKohëzgjatja: 1 orë
URL:https://operabalet.mk/al/event/piter-pan-shfaqje-baleti-per-femije-11-03-2025-1200/
LOCATION:Array
CATEGORIES:Balet
ATTACH;FMTTYPE=image/jpeg:https://operabalet.mk/al/wp-content/uploads/sites/3/2025/02/petar-pan-web.jpg
END:VEVENT
END:VCALENDAR