BEGIN:VCALENDAR
VERSION:2.0
PRODID:-//Opera dhe Baleti Nacional - ECPv4.0.7//NONSGML v1.0//EN
CALSCALE:GREGORIAN
METHOD:PUBLISH
X-WR-CALNAME:Opera dhe Baleti Nacional
X-ORIGINAL-URL:https://operabalet.mk/al
X-WR-CALDESC:Events for Opera dhe Baleti Nacional
BEGIN:VEVENT
DTSTART;TZID="UTC+0":20250324T120000
DTEND;TZID="UTC+0":20250324T130000
DTSTAMP:20260423T144652
CREATED:20250314T145038
LAST-MODIFIED:20250314T145038
UID:885-1742817600-1742821200@operabalet.mk
SUMMARY:PITER PAN – SHFAQJE BALETI PËR FËMIJË (24.03.2025 -12:00)
DESCRIPTION:\nPITER PAN – Shfaqje baleti për fëmijë (24.03.2025 -12:00)\nPITER PAN\nKoreograf: Xhejms Amar (Francë)\nSkenograf: Zoran Kostovski\nKostumograf: Marija Pupuçevski\nRepetitorë: Dafina Daniloska Koçevska\, Sasha Evtimova\, Kiro Pavlov\, Biljana Basmaxhieva Kovaçevski\nKorepetitorë: Marjan Vasilevski\, Stefan Pehçevski\nInspicientë: Dubravka Shopova\, Tijana Tarçugovska Georgieva\nPerformojnë solistët e baletit dhe Ansambli i Operës dhe i Baletit Nacional.\nKohëzgjatja: 1 orë\nPiter Pani është një personazh i krijuar nga romancieri dhe dramaturgu skocez\, Xh. M. Beri (1860–1937). Ai është një djalë i djallëzuar\, i cili mund të fluturojë dhe në mënyrë magjike refuzon të rritet. Piter Pani e kalon fëmijërinë e tij të pafundme në aventura në ishullin e vogël të Askundit\, ku është udhëheqës i bandës së tij\, “Djemtë e humbur”\, së bashku me sirenat\, indianët\, zanat dhe piratët. Herë pas here\, ai takohet me fëmijë të jashtëzakonshëm nga bota e jashtme.\n 
URL:https://operabalet.mk/al/event/piter-pan-shfaqje-baleti-per-femije-24-03-2025-1200/
LOCATION:Array
CATEGORIES:Balet
ATTACH;FMTTYPE=image/jpeg:https://operabalet.mk/al/wp-content/uploads/sites/3/2025/02/petar-pan-web.jpg
END:VEVENT
END:VCALENDAR