BEGIN:VCALENDAR
VERSION:2.0
PRODID:-//Opera dhe Baleti Nacional - ECPv4.0.7//NONSGML v1.0//EN
CALSCALE:GREGORIAN
METHOD:PUBLISH
X-WR-CALNAME:Opera dhe Baleti Nacional
X-ORIGINAL-URL:https://operabalet.mk/al
X-WR-CALDESC:Events for Opera dhe Baleti Nacional
BEGIN:VEVENT
DTSTART;TZID="UTC+0":20210930T200000
DTEND;TZID="UTC+0":20210930T212000
DTSTAMP:20260423T222220
CREATED:20210915T084324
LAST-MODIFIED:20210922T085920
UID:421-1633032000-1633036800@operabalet.mk
SUMMARY:PREMIERË Ruxhero Leonkavallo “Kllouni” ( Pagliacci - 30.09.2021)
DESCRIPTION:\nPREMIERË\nRuxhero Leonkavallo\n“Kllouni” ( Pagliacci)\n30.09.2021 – ora 20\nDirigjent: Bisera Çadllovska\nRegjisor: Dejan Proshev\nSkenograf: Ilina Angellovska\nKostumograf:Nikolla Buleski\nKoreograf: Ollga Pango\nAsistent dirigjenti:Katerina Stojkovska\nAsistent regjie: Trajko Jordanovski\nMjeshtër koncerti:Jane Bakevski\nAsistent i mjeshtrit të korit: Jasmina Gjorgjeska\nKorepetitore: Elena Siljanovska\, Janika Nevçeva\, Andreja Naunov\nSOLISTË\nKanio/ Kllouni: Gjorgji Cuckovski\nNeda/ Kolumbina: Dëshira Ahmeti Kërliu\nTonio/ Tadeo: Goran Naçevski\nPepe/ Arlekini: Dejan Stoev\nSilvio: Riste Velkov\nBalet: Endru Kuk (angli)\, Agim Baftii dhe Melania Gocevskа\nMarrin pjesë kori dhe orkestra e OBK\nInspicientë: Lupço Polizov\, Dragan Kostadinoviq\, Marko Pavleski\nSuflerë: Pavlina Zdravkova\, Nevena Georgieva\n
URL:https://operabalet.mk/al/event/premiere-ruxhero-leonkavallo-kllouni-pagliacci-30-09-2021/
LOCATION:Array
CATEGORIES:Оperë
ATTACH;FMTTYPE=image/jpeg:https://operabalet.mk/al/wp-content/uploads/sites/3/2021/09/Pagliacci-web.jpg
END:VEVENT
END:VCALENDAR