BEGIN:VCALENDAR
VERSION:2.0
PRODID:-//Opera dhe Baleti Nacional - ECPv4.0.7//NONSGML v1.0//EN
CALSCALE:GREGORIAN
METHOD:PUBLISH
X-WR-CALNAME:Opera dhe Baleti Nacional
X-ORIGINAL-URL:https://operabalet.mk/al
X-WR-CALDESC:Events for Opera dhe Baleti Nacional
BEGIN:VEVENT
DTSTART;TZID="UTC+0":20251003T200000
DTEND;TZID="UTC+0":20251003T210000
DTSTAMP:20260423T104709
CREATED:20250915T110116
LAST-MODIFIED:20250923T141407
UID:959-1759521600-1759525200@operabalet.mk
SUMMARY:Rekuiem nga Mozart (3.10.2025)
DESCRIPTION:\nRekuiem\nVOLFGANG AMADEUS MOZART\n03.10.2025 \, salla e obn\, ora 20\n \nDIRIGJENT: Xhanlluka Martinengi- Itali\nInspicientë: Dragan Kostadinoviq\, Marko Pavlevski\, Katerina Boshkovska\nSolistët: \nBiljana Josifov – soprano\nNikolina Janevska – mezosoprano\nJane Dunimagloski – tenor\nVladimir Sazdovski – bas\n \nMarrin pjesë: Orkestra dhe Kori i operës dhe baletit nacional
URL:https://operabalet.mk/al/event/rekuiem-nga-mozart-3-10-2025/
LOCATION:Array
CATEGORIES:Koncert
ATTACH;FMTTYPE=image/jpeg:https://operabalet.mk/al/wp-content/uploads/sites/3/2025/09/requiem_alb1.jpeg
END:VEVENT
END:VCALENDAR