BEGIN:VCALENDAR
VERSION:2.0
PRODID:-//Opera dhe Baleti Nacional - ECPv4.0.7//NONSGML v1.0//EN
CALSCALE:GREGORIAN
METHOD:PUBLISH
X-WR-CALNAME:Opera dhe Baleti Nacional
X-ORIGINAL-URL:https://operabalet.mk/al
X-WR-CALDESC:Events for Opera dhe Baleti Nacional
BEGIN:VEVENT
DTSTART;TZID="UTC+0":20250509T200000
DTEND;TZID="UTC+0":20250509T230000
DTSTAMP:20260423T144456
CREATED:20250416T125106
LAST-MODIFIED:20250506T093812
UID:901-1746820800-1746831600@operabalet.mk
SUMMARY:„RIGOLETO“ - Xhuzepe Verdi – PREMIERË (9.5.2025)
DESCRIPTION:\n„RIGOLETO“ - Xhuzepe Verdi – PREMIERË\nHapje solemne\nMbrëmjet e 53-ta Operistike të Majit\nPREMIERË\nXhuzepe Verdi\n„RIGOLETO“\n9.5.2025\, ora 20:00\, Holli i OBN-së\nDirigjent: Xhanluka Martinengi – Itali\nRegjisor: Pjer Maestrini – Itali\nRegjisor asistent: Trajko Jordanovski\, Lupka Jakimovska\nSkenograf: Gilermo Nova – Spanja\nKostumografe: Kristina Aceti – Itali\nKostumografe asistente: Angella Bogevska\nMjeshtër koncerti: Kliment Todoroski\nMjeshtre të korit: Jasmina Gjorgjeska\, Gjurgjica Dashiq\nKoreografe: Sasha Eftimova\nKorepetitorë: Elena Sijanovska\, Janinka Nevçeva\, Andreja Naunov\, Goran Stojanovski\nInscipientë: Dragan Kostadinoviq\, Marko Pavlevski\nSuflere: Nevena Georgieva\nInterpretojnë:\nRigoleto: Leon Kim (Kore e Jugut)\nXhilda: Ana Durllovski\nVojvoda i Mantovës: Mario Bag (Korea e Jugut)\nSparafuçill: Igor Durllovski\nMadalena: Nikolina Janevska\nMonterone: Vladimir Sazdovski\nMarullo: Dragan Ampov\nBorsa: Jane Dunimaglloski\nDukesha Çeprano: Aleksandra Llazarovska Vasileski\nDuka Çeprano: Dime Petrov\nXhovana: Marika Popoviq\nPazhi: Desanka Gligorieviq\nOficeri: Dime Petrov\nKori dhe orkestra e Operës dhe Baletit Nacional\n \nSinopsis\nNë pallatin e Dukës së Mantovës zhvillohet ballo. Duka i vardiset konteshës Çeprano. Xholi i oborrit\, Rigoleto tall kontin Çeprano\, ndërsa Marullo u tregon të pranishmëve se Rigoleto fshehurazi ka të dashur të re dhe të bukur. Ata planifikojnë ta rrëmbejnë. Në ballo arrin edhe konti Monterone\, vajza e të cilit është turpëruar nga Duka. Të gjithë e përqeshin\, sidomos Rigoleto. Monterone e mallkon Dukën dhe Rigoleton.\nI tronditur nga mallkimi\, Rigoleto kthehet në shtëpi\, ku para hyrjes takon Sparafuçilen\, i cili i ofron shërbimet e tij si vrasës me pagesë.\nNë shtëpi\, Rigoleto bisedon qetë me vajzën e tij Xhildën dhe urdhëron dadon Xhovanën që të mos lejojë askënd të hyjë në shtëpi. Ai largohet i shqetësuar\, ndërkohë që Duka\, i maskuar si studenti Gualtier Malde vjen në shtëpi. Ai e korrupton Xhovanën me para që ta lejojë të hyjë dhe i shpall dashurinë Xhildës.\nPara shtëpisë mblidhen oborrtarët që synojnë ta rrëmbejnë Xhildën. Me ta është edhe Rigoleto\, të cilit i thonë se do të rrëmbejnë konteshën Çeprano që jetonte afër. Me shirit në sy\, Rigoleto merr pjesë në rrëmbim duke mbajtur shkallën. Kur gjithçka përfundon\, ai me tmerr e kupton se është mashtruar dhe se ka ndihmuar në rrëmbimin e vajzës së vet. Mallkimi i Monterones ka filluar të bëhet realitet.\nNë pallatin e Dukës\, oborrtarët mësojnë nga Rigoleto se Xhilda është vajza e tij. I tërbuar\, futet me vrull në dhomat e Dukës. Xhilda\, e turpëruar\, vrapon drejt të atit. Ai betohet se do të hakmerret\, ndërsa Xhilda e lut që t’ia falë Dukës.\nNë hanin e Sparafuçiles\, Rigoleto bën marrëveshje që Duka të vritet. Ai e dërgon Xhildën të maskuar si mashkull\, por ajo kthehet me dëshirën për ta parë sërish Dukën. Ajo dëgjon bisedën mes Sparafuçiles dhe motrës së tij\, Madalenës\, e cila e lut të mos e vrasë Dukën.\nNë errësirë\, te dera e hanit\, Sparafuçile e vret Xhildën\, duke dashur në këtë mënyrë t’i arsyetojë të hollat para Rigoletos. Ky kërkon ta shohë trupin që është mbështjellë në një thes. Me tmerr zbulon se është vajza e tij. Në momentet e fundit të jetës\, Xhilda e lut që t’ia falë. Rigoleto kujton mallkimin e Monterones.\n
URL:https://operabalet.mk/al/event/rigoleto-xhuzepe-verdi-premiere-9-5-2025/
LOCATION:Array
CATEGORIES:Оperë
ATTACH;FMTTYPE=image/png:https://operabalet.mk/al/wp-content/uploads/sites/3/2025/04/rigoleto_mov_53_.png
END:VEVENT
END:VCALENDAR