BEGIN:VCALENDAR
VERSION:2.0
PRODID:-//Opera dhe Baleti Nacional - ECPv4.0.7//NONSGML v1.0//EN
CALSCALE:GREGORIAN
METHOD:PUBLISH
X-WR-CALNAME:Opera dhe Baleti Nacional
X-ORIGINAL-URL:https://operabalet.mk/al
X-WR-CALDESC:Events for Opera dhe Baleti Nacional
BEGIN:VEVENT
DTSTART;TZID="UTC+0":20231002T200000
DTEND;TZID="UTC+0":20231002T211500
DTSTAMP:20260423T161106
CREATED:20230921T084253
LAST-MODIFIED:20230921T084253
UID:658-1696276800-1696281300@operabalet.mk
SUMMARY:“RITA”- Gaetano Doniceti (2.10.2023)
DESCRIPTION:\n02.10.2023\, ora 20\n“Interfest”\, Manastir\nTeatri Popullor Manastir\nGaetano Doniceti\n“RITA”\nDirigjent: Ivan Eminoviq\nRegjisor: Trajko Jordanovski\nAsistent regjisore: Ljupka Jakimovska\nSkenografe / Kostumografe: Marija Veterovska\nMjeshtër koncerti: Kliment Todorovski\nMjeshtër ndriçimi:\nKorepetitorë: Andreja Naunov\, Janinka Nevçeva\, Elena Siljanoska\,\nJordan Petrushevski\nROLE:\nRita: Ana Rojdeva\nBepe: Jane Dunimaglloski\nGasparo: Neven Siljanovski\nBartolo: Borko Bixhovski\nInspicientë: Ljupço Polizov\, Dragan Kostadinoviq\, Marko Pavlevski\nSufler: Nevena Georgieva
URL:https://operabalet.mk/al/event/rita-gaetano-doniceti-2-10-2023/
LOCATION:Array
CATEGORIES:Оperë
ATTACH;FMTTYPE=image/jpeg:https://operabalet.mk/al/wp-content/uploads/sites/3/2022/09/rita_eng1.jpg
END:VEVENT
END:VCALENDAR