BEGIN:VCALENDAR
VERSION:2.0
PRODID:-//Opera dhe Baleti Nacional - ECPv4.0.7//NONSGML v1.0//EN
CALSCALE:GREGORIAN
METHOD:PUBLISH
X-WR-CALNAME:Opera dhe Baleti Nacional
X-ORIGINAL-URL:https://operabalet.mk/al
X-WR-CALDESC:Events for Opera dhe Baleti Nacional
BEGIN:VEVENT
DTSTART;TZID="UTC+0":20251205T200000
DTEND;TZID="UTC+0":20251205T210000
DTSTAMP:20260423T104823
CREATED:20251010T085548
LAST-MODIFIED:20251120T130920
UID:986-1764964800-1764968400@operabalet.mk
SUMMARY:“Sheherezada” – Nikollaj Rimski Korsakov (5.12.2025)
DESCRIPTION:5 dhjetor 2025\, ora 20:00\n“Sheherezada” – Nikollaj Rimski Korsakov\n(balet)\n Dirigjent: Bisera Çadlovska\nKoreograf: Mihail Krapivin (Rusi) – sipas vendosjes origjinale të Mihail Fokinit\nSkenograf: Marija Veteroska – bazuar në skenografinë e L. Bakstit\nKostumograf: Maja Bursaq (Serbi) – sipas kostumografisë së L. Bakstit\nKoncert-mjeshtër: Verica Lambeska\nRepetitorë: Aleksandra Mijalkova\, Volodimir Borisov (Ukrainë)\, Dafina Daniloska-Koçevska\, Marija Josifovska Ristovska\, Biljana Basmaxhieva Kovaçevski\nInspektorë skene: Tijana Tarcugovska Gjorgjieva\, Dubravka Shopova\nKorepetitorë: Marjan Vasilevski\, Stefan Pehçevski\nMarrin pjesë:\nZabeida: Natasha Trendafilova Gicev\nRrobi i artë: Balazh Loçei (Hungari)\nSINOPSIS SHEHERZADA:\nMbreti Shahrijar pushon në odën e tij. Vallaun e tij\, shahun Zeman\, me këngë e valle\, e argëtojnë vashat e haremit. Shahrijari është i interesuar vetëm për të dashurën e tij\, Zabeiden\, por Zemani dyshon në besnikërinë e saj. Shahrijar bie nën ndikimin e Zemanit dhe paralajmëron se do të shkojë për gjueti\, kurse vashat e haremit e cytin Zabeiden t’i afrohet Shahrijarit dhe t’i dëshirojë gjueti të suksesshëm\, me qëllim që të shmanget çdo dyshim. Kur burrat do të marrin rrugën\, vashat do ta bindin eunukun kryesor që ta hapë derën kryesore të haremit. Zezakët robër do të futen në harem dhe fillojnë orgjitë me gratë e Shahrijarit. Dyshimet e Zemanit vërtetohen. Dhe shpejtë do të arrijë dënimi me vdekje për robërit dhe eunukut. Zabeida e lut mbretin për mëshirë dhe e bind për besnikërinë e saj ndaj tij. Edhe pse në një moment hamendet\, Shahrijari\, me qëllim që ta shpëtojë nderin e tij\, e flijon të dashurën. Zabaida e cila nuk gjen zgjidhje bën vetëvrasje në krahët e mbretit Shahrijar.
URL:https://operabalet.mk/al/event/sheherezada-nikollaj-rimski-korsakov-5-12-2025/
LOCATION:Array
CATEGORIES:Balet
ATTACH;FMTTYPE=image/jpeg:https://operabalet.mk/al/wp-content/uploads/sites/3/2020/02/sherezada-slide.jpg
END:VEVENT
END:VCALENDAR