BEGIN:VCALENDAR
VERSION:2.0
PRODID:-//Opera dhe Baleti Nacional - ECPv4.0.7//NONSGML v1.0//EN
CALSCALE:GREGORIAN
METHOD:PUBLISH
X-WR-CALNAME:Opera dhe Baleti Nacional
X-ORIGINAL-URL:https://operabalet.mk/al
X-WR-CALDESC:Events for Opera dhe Baleti Nacional
BEGIN:VEVENT
DTSTART;TZID="UTC+0":20220614T200000
DTEND;TZID="UTC+0":20220614T220000
DTSTAMP:20260424T002315
CREATED:20220608T150204
LAST-MODIFIED:20220608T150232
UID:517-1655236800-1655244000@operabalet.mk
SUMMARY:“SHEHERZADA” – Nikollaj Rimski Korasakov /  “NATA VALPURGJIKE” – Sharl Guno  (14.6.2022)
DESCRIPTION:\nSHEHERZADA – Nikollaj Rimski Korsakov\nDirigjent: Bisera Çadllovska\nKoreograf: Mihail Krapivin (Rusi) – në premierë koreografia ishte e Mihail Fokinit\nSkenograf: Marija Veterovska (sipas skenografisë së L. Baksit)\nKostumograf: Maja Bursqa (Serbi) – sipas kostumografisë së L. Bakst\nMjeshtër koncerti: Verica Lambevska\nRepetitorë: Ela Stebljak (Ukrainë)\, Goran Bozhinov\, Aleksandra Mijallkova\, Lora Tarçugovska\, Dafina Daniloska – Koçevska\nMarrin pjesë:\nZabeida: Ivana Kocevska\nRobi i artë: Ballazh Llashei (Hungari)\nSulltan Shahrijar: Dragan Koçoski\nShah Zeman: Stefan Koçevski\nEunuku kryesor: Lora Tarçugovska\n3 sherbëtoret: Simona Mitovska \, Ilijana Danillov\, Ivana Dimkovska\n-PAUZË-\n“NATA VALPURGJIKE” – Sharl Guno\n(Pjesë baleti nga opera “Fausti” i Sharl Guno)\nDirigjent: Bisera Çadllovska\nKoreograf: Gabor Kevehazi (Hungari)\nSkenograf: Marija Veterovska\nKostumograf: Marija Pupuçevska\nRepetitorë: Ela Stebljak (Ukrainë)\, Goran Bozhinov\, Aleksandra Mijallkova\, Lora Tarçugovska\, Biljana Pasharikovska\nMjeshtër koncerti: Verica Lambevska\nMarrin pjesë:\nVahanalka: Marija Kiçevska Shokarovska\nNimfa I: Sasha Evtimova\nNimfa II: Mimi Pop Aleksova Atanasovska\nTre të rinj në të zezë: Mirsollav Mitrashinoviq\, Nikollas Orso\, Kristijan Jangos\nTreshi – variacione: Igor Velanoski\, Endru Kuk (Angli)\, Ilijana Danillov\nMarrin pjesë solistë të shquar\, solistë\, ansambli i baletit dhe orkestra e Operës dhe Baletit Kombëtar
URL:https://operabalet.mk/al/event/sheherzada-nikollaj-rimski-korasakov-nata-valpurgjike-sharl-guno-14-6-2022/
LOCATION:Array
CATEGORIES:Balet
ATTACH;FMTTYPE=image/jpeg:https://operabalet.mk/al/wp-content/uploads/sites/3/2022/06/sheherezade-walpurgis.jpg
END:VEVENT
END:VCALENDAR