BEGIN:VCALENDAR
VERSION:2.0
PRODID:-//Opera dhe Baleti Nacional - ECPv4.0.7//NONSGML v1.0//EN
CALSCALE:GREGORIAN
METHOD:PUBLISH
X-WR-CALNAME:Opera dhe Baleti Nacional
X-ORIGINAL-URL:https://operabalet.mk/al
X-WR-CALDESC:Events for Opera dhe Baleti Nacional
BEGIN:VEVENT
DTSTART;TZID="UTC+0":20231214T090000
DTEND;TZID="UTC+0":20231214T223000
DTSTAMP:20260423T144457
CREATED:20231120T114343
LAST-MODIFIED:20231120T114405
UID:700-1702544400-1702593000@operabalet.mk
SUMMARY:SIMBIOZA FOLKLORISTIKO-KLASIKE (14.12.2023)
DESCRIPTION:\nSIMBIOZA FOLKLORISTIKO-KLASIKE\nSkenari-muzikor i spektaklit të OPERËS DHE BALETIT NACIONAL dhe TANECIT\nSalla e madhe e Operës dhe e Baletit Nacional\n14 dhjetor 2023\, ora 21:00\nDirigjent: Bisera Çadllovska\nMjeshtri i koncertit: Verica Llambevska\nMjeshtri i korit: Gjurgjica Dashiq\n*Orkestrimet e Osogovskës\, Vodarkës\, Maleshevkës\, Korrëses dhe Lulës pranverore te Pirinit\, i bëri Darko Ilievski\nInspecient: Lupco Polizov\, Dragan Kostadinoviq\, Marko Pavlevski\nMarrin pjesë orkestra\, kori dhe kori kërcyes i IN Tanec\, bashkë me orkestrën dhe korin e IN Opera dhe Baleti Nacional.\n\nPROGRAMI:\nOSOGOVKA\n(D. M. Aleksov – Gj. Dimçevski)\nVODARKI\n(B. Velevski / D. M. Aleksov – Gj. Dimçevski)\nKARAVLlASHKO ORO\n(K. Petrovski – ar. D. Ilievski)\nÇETVORKA\n(P. Atanasovski – ar. D. Ilievski)\nPIPERKOVO ORO\n(T. Ognenovski – ar. D. Ilievski)\nMALESHEVKA\nJ. Bllazhevski – S. Mitev / V. Terziski)\nKUR U MARTOVE\, SI T’U DUK\n( popullore – ar. D. Ilievski)\nSUITA NË 12/8\n( potpuri këngësh popullore – ar. D. Ilievski)\nKORRËSJA\n(D. M. Aleksov – Gj. Dimçevski)\nËSHTË DUKE DERGJUR DASHURIA IME\n(popullore – ar. D. Ilievski)\nDRAÇEVKA\n(valle popullore – ar. D. Ilievski)\nLULJA PRANVERORE E PIRINIT\n(S. Karanfilovski – S. Kostovski / K. Zifovski)\n
URL:https://operabalet.mk/al/event/simbioza-folkloristiko-klasike-14-12-2023/
LOCATION:Array
CATEGORIES:Koncert
ATTACH;FMTTYPE=image/jpeg:https://operabalet.mk/al/wp-content/uploads/sites/3/2023/11/simbioza.jpg
END:VEVENT
END:VCALENDAR