BEGIN:VCALENDAR
VERSION:2.0
PRODID:-//Opera dhe Baleti Nacional - ECPv4.0.7//NONSGML v1.0//EN
CALSCALE:GREGORIAN
METHOD:PUBLISH
X-WR-CALNAME:Opera dhe Baleti Nacional
X-ORIGINAL-URL:https://operabalet.mk/al
X-WR-CALDESC:Events for Opera dhe Baleti Nacional
BEGIN:VEVENT
DTSTART;TZID="UTC+0":20250404T200000
DTEND;TZID="UTC+0":20250404T230000
DTSTAMP:20260423T131432
CREATED:20250321T144220
LAST-MODIFIED:20250404T091032
UID:890-1743796800-1743807600@operabalet.mk
SUMMARY:“TOSKA” – XHAKOMO PUÇINI (04.04.2025)
DESCRIPTION:\n“Toska” – Xhakomo Puçini (04.04.2025)\nDirigjent: Bisera Çadlovska\nRegjisor: Ognjan Draganov (Bullgari)\nSkenograf: Zoran Nikollovski\nKostumografe: Marija Pupuçevska\nAsistent dirigjent: Katerina Stojkovska\nAsistent regjisor: Trajko Jordanovski\nMjeshtër koncerti: Verica Llambevska\nAsistent i mjeshtrit të korit: Gjurgica Dashiq\, Jasmina Gjorgeska\nKorepetitorë: Elena Siljanoska\, Janinka Nevçeva\, Andreja Naunov\, Gorjan Stojanovski\nInspicientë: Dragan Kostadinoviq\, Marko Pavlevski\nSuflerë: Nevena Georgieva\nRolet:\nFloria Toska: Bllagica Pop Tomova\nKavaradosi: Zoran Sotirov\nSkarpia: Marjan Jovanoski\nAnçeloti: Borko Bidzovski\nShërbyes kishe: Dragan Ampov\nSpoleta: Nikolla Stojçeski\nSharon: Tihomir Jakimovski\nMjeshtër çelësi: Nikola Çedomirovski\nBariu: Desanka Gligorijeviq\nMarrin pjesë kori dhe orkestra e Operës dhe Baletit Nacional\nTOSKA\nTEMA: Pasion\, tradhti dhe sakrificë. Një simfoni dashurie jehon në hijet e Romës.\nPËRMBAJTJE E SHKURTËR\nPiktori Kavaradosi\, e ndihmon republikanin e arratisur Anxhelotin të strehohet\, por shefi i policisë Skarpia dhe agjentët e tij e kuptojnë gjurmën. Me premtime dhe kërcënime të shkathët\, Skarpia zhvat një rrëfim nga Toska\, dashnorja e piktorit\, dhe ai kapet dhe dënohet me vdekje. Toska kërkon falje\, megjithatë Skarpia refuzon. Do ta falja vetëm nëse Toska do të pranonte të ishte e tija. Për ta shpëtuar Kavaradosin\, Tosca pranon\, por në këmbim kërkon që Skarpia t’i japë atij dokumente që do ta lejojnë të largohet i sigurt nga Roma.\nU ra dakord që të shtënat të ishin fiktive. Skarpia përgatit dokumentet dhe kur e dëshiron Toskën\, ajo e vret me thikë. Menjëherë i thotë Kavaradosit\, se e shtëna do të jetë fiktive.\nMegjithatë\, Skarpia urdhëroi që Kavaradosi të pushkatohej realisht. Urdhri është ekzekutuar. Toska\, e gjitha e tërbuar\, kupton se është mashtruar dhe para se të kapet nga agjentët e Skarpies\, ajo hidhet nga kalaja e burgut në një humnerë.\n
URL:https://operabalet.mk/al/event/toska-xhakomo-pucini-04-04-2025/
LOCATION:Array
CATEGORIES:Оperë
ATTACH;FMTTYPE=image/jpeg:https://operabalet.mk/al/wp-content/uploads/sites/3/2021/11/TOSCA-web.jpg
END:VEVENT
END:VCALENDAR