BEGIN:VCALENDAR
VERSION:2.0
PRODID:-//Opera dhe Baleti Nacional - ECPv4.0.7//NONSGML v1.0//EN
CALSCALE:GREGORIAN
METHOD:PUBLISH
X-WR-CALNAME:Opera dhe Baleti Nacional
X-ORIGINAL-URL:https://operabalet.mk/al
X-WR-CALDESC:Events for Opera dhe Baleti Nacional
BEGIN:VEVENT
DTSTART;TZID="UTC+0":20211217T200000
DTEND;TZID="UTC+0":20211217T223000
DTSTAMP:20260423T193057
CREATED:20211207T095812
LAST-MODIFIED:20211207T095812
UID:453-1639771200-1639780200@operabalet.mk
SUMMARY:TRAVIJATA - XHUZEPE VERDI  (17.12.2021)
DESCRIPTION:\nXHUZEPE VERDI\n TRAVIJATA\n17.12.2021\, ora 20.\nDirigjent: Bisera Çadllovska\nRegjisor: Verena Shtojber (Gjermani)\nSkenograf dhe kostumograf: Sofija Shnajder (Gjermani)\nKoreograf: Shasha Eftimova\nAsistent regjie: Lupka Jakimovska\, Trajko Jordanovski\nAsistent dirigjenti: Katerina Stojkovska\nMjeshtër koncerti: Kliment Todoroski\nMjeshtër kori: Gjurgjica Dashiq\, Jasmina Gjorgjeski\nKorepetitorë: Elena Siljanoska\, Janinka Nevçeva\, Andreja Naunov\nMarrin pjesë:\nVioleta Valeri:Nade Talevska\nAlfred Zhermon: Bllagoj Nacoski\nZhorzh Zhermon: Marjan Jovanoski\nFlora Bervoa: Marika Popoviq\nAnina: Aleksandra Llazarovska – Vasilevski\nBaroni Dufol: Vasko Zdravkov\nMarkiz D’ Obinji: Dragan Ampov\nGaston: Dejan Stoev\nDr. Grenvil: Borko Bixhovski\nXhuzepe: Igor Ginovski\nKomesario: Dime Petrov\nMarrin pjesë orkestra\, kori dhe ansambli i Operës dhe Baletit Kombëtar\nIspicientë: Lupço Polizov\, Dragan Kostadinoviq\, Marko Pavlevski\nSuflerë: Pavlina Zdravkova\, Svetlana Georgieva\n
URL:https://operabalet.mk/al/event/travijata-xhuzepe-verdi-17-12-2021/
LOCATION:Array
CATEGORIES:Оperë
ATTACH;FMTTYPE=image/jpeg:https://operabalet.mk/al/wp-content/uploads/sites/3/2017/05/traviata.jpg
END:VEVENT
END:VCALENDAR