BEGIN:VCALENDAR
VERSION:2.0
PRODID:-//Opera dhe Baleti Nacional - ECPv4.0.7//NONSGML v1.0//EN
CALSCALE:GREGORIAN
METHOD:PUBLISH
X-WR-CALNAME:Opera dhe Baleti Nacional
X-ORIGINAL-URL:https://operabalet.mk/al
X-WR-CALDESC:Events for Opera dhe Baleti Nacional
BEGIN:VEVENT
DTSTART;TZID="UTC+0":20170520T120000
DTEND;TZID="UTC+0":20170520T130000
DTSTAMP:20260424T225655
CREATED:20170425T142020
LAST-MODIFIED:20170503T150232
UID:218-1495281600-1495285200@operabalet.mk
SUMMARY:TREGIM PRANVEROR (Premierë) - SHFAQJE PËR FËMIJË (20.05.2017)
DESCRIPTION:\n\nKori i femijëvë - “Falseto” pranë Operes dhe Baletit ne Maqedoni
URL:https://operabalet.mk/al/event/tregim-pranveror-premiere-shfaqje-per-femije-20-05-2017/
LOCATION:Bulevar Goce Dellçev 4\, Shkup\, 1000\, Macedonia
CATEGORIES:Оperë
ATTACH;FMTTYPE=image/jpeg:https://operabalet.mk/al/wp-content/uploads/sites/3/2017/04/falseto.jpg
END:VEVENT
END:VCALENDAR