BEGIN:VCALENDAR
VERSION:2.0
PRODID:-//Opera dhe Baleti Nacional - ECPv4.0.7//NONSGML v1.0//EN
CALSCALE:GREGORIAN
METHOD:PUBLISH
X-WR-CALNAME:Opera dhe Baleti Nacional
X-ORIGINAL-URL:https://operabalet.mk/al
X-WR-CALDESC:Events for Opera dhe Baleti Nacional
BEGIN:VEVENT
DTSTART;TZID="UTC+0":20160524T200000
DTEND;TZID="UTC+0":20160524T230000
DTSTAMP:20260425T021609
CREATED:20160503T092835
LAST-MODIFIED:20160503T092835
UID:146-1464120000-1464130800@operabalet.mk
SUMMARY:TREGIMET E HOFMANIT – Zhak Ofenbah
DESCRIPTION:
URL:https://operabalet.mk/al/event/tregimet-e-hofmanit-zhak-ofenbah/
LOCATION:Bulevar Goce Dellçev 4\, Shkup\, 1000\, Macedonia
CATEGORIES:Оperë
ATTACH;FMTTYPE=image/jpeg:https://operabalet.mk/al/wp-content/uploads/sites/3/2016/05/hofmanovi-prikazni.jpg
END:VEVENT
END:VCALENDAR