BEGIN:VCALENDAR
VERSION:2.0
PRODID:-//Opera dhe Baleti Nacional - ECPv4.0.7//NONSGML v1.0//EN
CALSCALE:GREGORIAN
METHOD:PUBLISH
X-WR-CALNAME:Opera dhe Baleti Nacional
X-ORIGINAL-URL:https://operabalet.mk/al
X-WR-CALDESC:Events for Opera dhe Baleti Nacional
BEGIN:VEVENT
DTSTART;TZID="UTC+0":20240509T200000
DTEND;TZID="UTC+0":20240509T223000
DTSTAMP:20260423T161501
CREATED:20240413T223009
LAST-MODIFIED:20240430T162916
UID:753-1715284800-1715293800@operabalet.mk
SUMMARY:"TRUBADUR" - Xhuzepe Verdi  - MBRËMJET E 52 TË OPERËS SË MAJIT(09.05.2024)
DESCRIPTION:\nOPERA DHE BALETI NACIONAL\nOPERA\nMBRËMJET E 52 TË OPERËS SË MAJIT\nPREMIERË\nXhuzepe Verdi\n"TRUBADUR"\n09.05.2024\nDirigjent: Enriko Doviko\nRegjisori: Ivan Popovski\nSkenografi: Miodrag Tabaçki\nKostumografi: Marija Pupuçevska\nKoreograf: Sasha Eftimova\nAsistent i dirigjentit: Katerina Stojkovska\nAsistentë regjie: Trajko Jordanovski\, Ljupka Jakimovska\nAsistentë komstimograf: Angela Bogeska\nKoncert mjeshtër:\nAsistentë kor mjeshtër: Gjurgjica Dashiq\, Jasmina Gjorgjeska\nKorepetitorë: Elena Siljanovska\, Janinka Nevçeva\, Andrej Naunov\, Jordan Petrushevski\nInspicientë:\,Ljupço Polizov\,Dragan Kostadinoviq\,Marko Pavlevski\nSufler:\nNevena Georgieva\nS O L I S T Ë\nMANRIKO: Zoran Sotirov\nKONTI LUNA: Marjan Jovanoski\nLEONORA: Sandra Mitrovska\nACUÇENA: Sanja Anastasia (Serbi)\nFERANDO: Vladimir Sazdovski\nRUIC: Dejan Stoev\nINES: Ana Rojdeva\nCIGANI I VJETËR: Tihomir Jakimovski\nFTUES: Jane Dunimagloski\nMarrin pjesë kori dhe orkestra e Operës dhe Baletit Nacional\nTRUBADUR\nOpër në 4 akte (8 pamje)\nLibreto: S. Kamarano\, sipas dramës me të njëjtën emër të A.Gutjeres\nShfaqja e pare 19 janar\, 1853 në Romë\nPremiera e "Trubadur" ishte një nga më të suksesshmet e Verdit. Edhe pse skena e operës është jashtëzakonisht komplekse dhe jo gjithmonë logjike\, Verdi e “fisnikëron” me muzikën e tij\, duke nxjerrë në pah thekset thelbësore të dramës. Është mbi të gjitha kundërshtimi i kampit të lirë të ciganëve dhe dhuna mizore e kontit Luna. Jo më kot meloditë e këngëve cigane dhe kabaleta e Manrikos nga skena e operës u zhvendosën në rrugët e qytetit\, duke u kthyer në këngë patriotike. E gjithë opera është e mbushur me një shkëlqim dhe frymëzim të veçantë melodik\, dhe disa efekte muzikore-dramaturgjike (për shembull\, bashkimi i disa planeve veprimi në Miserere nga akti i katërt) hap perspektiva të reja në teatrin muzikor.\nPërmbajtja\nUshtari i vjetër Ferrando tregon një histori të lashtë për një fëmijë të rrëmbyer\, në të cilën e vërteta përzihet me trillimin.\nJashtë kështjellës së Leonorës\, trubaduri Manriko përplaset me kontin Luna. Në kampin e ciganëve\, nëna e Manrikos\, Acuçena\, tregon për një ngjarje të kohëve të mëparshme\, kur nënën e saj e dogjën të gjallë\, kështu që për hakmarrje Acuçena rrëmbeu djalin e kontit plak. Manriko fillon të dyshojë - a është ai djali i gruas cigane...\nLeonora u informua gabimisht se Manriko kishte vdekur. Ajo vendos të bëhet një shtrigë. Luna dëshiron të rrëmbejë Leonorën\, por Manriko shfaqet me ushtarët e tij dhe mund Lunën. Më në fund Manriko dhe Leonora mund të jenë bashkë.\nLuna ndërkohë përgatitet për hakmarrje. Ushtarët e tij kapin Acuçenën. Ferrando tashmë njeh gruan cigane që dikur rrëmbeu vëllain e Lunës. Manriko nxiton për të liruar nënën e tij. Ai sulmon në mënyrë të pamatur dhe kapet.\nDuke mësuar se Manriko është kapur\, Leonora vendos ta shpëtojë atë dhe i ofrohet Lunës. Ai e lë të shohë Manrikon për herë të fundit. Leonora pi një helm me veprim të ngadaltë. Me lajmin e lirisë\, ajo vjen në burg dhe vdes në krahët e Manrikos. Luna e tërbuar urdhëron që Manriko të vritet.\nAcuçena-shumë vonë! - i thotë Lunës se sapo ka ekzekutuar vëllain e vet.
URL:https://operabalet.mk/al/event/trubadur-xhuzepe-verdi-mbremjet-e-52-te-operes-se-majit09-05-2024/
LOCATION:Array
CATEGORIES:Оperë
ATTACH;FMTTYPE=image/png:https://operabalet.mk/al/wp-content/uploads/sites/3/2024/04/trubadur_52mov.png
END:VEVENT
END:VCALENDAR