BEGIN:VCALENDAR
VERSION:2.0
PRODID:-//Opera dhe Baleti Nacional - ECPv4.0.7//NONSGML v1.0//EN
CALSCALE:GREGORIAN
METHOD:PUBLISH
X-WR-CALNAME:Opera dhe Baleti Nacional
X-ORIGINAL-URL:https://operabalet.mk/al
X-WR-CALDESC:Events for Opera dhe Baleti Nacional
BEGIN:VEVENT
DTSTART;TZID="UTC+0":20160325T200000
DTEND;TZID="UTC+0":20160325T230000
DTSTAMP:20260424T065128
CREATED:20160323T133059
LAST-MODIFIED:20160330T090812
UID:13-1458936000-1458946800@operabalet.mk
SUMMARY:Turandot - PREMIERË
DESCRIPTION:Dirigjent: Gianluca Martinenghi (Itali)\n\nRegjisor / Skenograf / Kostumograf: Giancarlo del Monaco (Itali)\n\nDizajn ndriçimi: Wolfgang von Zoubek (Austri)\n\nKoncert mjeshtër: Verica Lambevska\n\nAss. Dirigjent: Bisera Çadlovska\n\nAss. Regjisor: Helene Sacconaghi (Itali)\,  Trajko Jordanovski\, Ljupka Jakimovska\n\nAss. Skenograf / Kostumograf: Agostino Sachi (Itali)\n\nAss. Korr mjeshtër: Jasmina Gjorgjeska\n\n \n\nKASTI:\n\nTurandot: Gabrielle Mоuhlan (Holandë)\n\nKalaf: Christian Benedict (Lituani)\n\nLiù: Valeria Sepe (Itali)\n\nTimur: Igor Durlovski\n\nPing: Kristijan Antovski\n\nPang: Darko Neshovski\n\nPong: Dejan Stoev\n\nMandarin: Vladimir Sazdovski\n\nAltoum: Marjan Nikolovski\n\nPrinci i Persisë: Darko Neshovski\n\nRoja imperiale: Tihomir Jakimovski\n\n \n\nNë shikim të pare një histori e thjeshtë mes të mires dhe të keqes\, ligësinë dhe mizorinë që dështojnë të triumfojnë pranë dashurisë\, ku Giacomo Puccini\, Giuseppe Adami dhe Renato Simoni e kanë emëruar Turandot. Në më shumë se dhjetë vite\, publiku maqedonas pa pushim mbush auditorin në çdo shpallje të këtij titulli. Dhe përsëri\, opera Turandot këtë here do të shihet përmes prizmit të një vizioni të ri estetik.\n\nRegjisori Giancarlo del Monaco është i biri i tenorit legjendar Mario del Monaco\, i cili llogaritet si simbol i dramës në opera. Ai që në jetën e tij ka ndjerë operën si platformën e vetme ekzistenciale\, këta ditë në Shkup do të ketë mundësinë që ta shijojë ëndrrën e tij përsëri. Në listën e këtyre ëndërrimtarëve përfshihen edhe skenografi William Orlandi\, dizajnuesi i ndriçimit Wolfgang von Zoubek dhe dirigjenti Gianluca Martinenghi.\n\n \n\nTURANDOT (1926)\n\n‘Turandot’ kryevepra e fundit operistike e Puçinit ka mbetur e papërfunduar si pasojë e vdekjes së tij. Dy skenat e fundit të aktit të tretë më vonë janë shtuar nga Franco Alfano\, bazuar në skicat e kompozitorit. Kur Arturo Toscanini\, në prill të vitit 1926 dirigjoi premierën e pare të ‘Turandot’ para një audience të plotë\, kishte vendosur që mos t’i dirigjonte pjesët e komponuara nga Alfano. Kur performance kishte arritur në notat e fundit të komponuara nga Puçini\, Toscanini ndërpreu orkestrin dhe iu drejtua audiences duke thënë: ‘këtu mbaron opera\, sepse ky është momenti kur Maestroja vë poshtë penën e tij’. Megjithatë\, në dy performancat e ardhshme\, Toscanini ka nxjerrë operën në tërësi\, duke përfshirë edhe fundin të komponuar nga Alfano\, ku ka hasur në duartrokitje të zhurmshme dhe admirim nga publiku. ‘Turandot’ është përrallë epike me vendngjarje në Kinë\, bazuar në dramën e dramaturgut italian të shekullit 18\, Carlo Gozzi. I pasqyruar me një material muzikor të ‘pazakontë’ me një përdorim të ndërthurur inovativ mes korrit dhe orkestrit\, stili i Puçinit në këtë kryevepër operistike dallohet përmes melodisë së gjërë ekspresive. Orkestri në operë është i madh dhe i larmishëm\, i përbërë nga një shumllojshmëri instrumentesh\, përfshirë edhe alto saksofon\, celesta\, bas ksilofon\, harpa dhe organo. Në partet\, kompozitori trajton dy tema tradicionale kineze\, të përpunuara në mënyrë origjinale\, duke përfshirë edhe himnin e madh perandorak në aktin e dytë. ‘Turandot’  është e pasur me momente admiruese të melodisë së bukur\, e cila veçanërisht spikatet në arien e paharrueshme ‘Nessun Dorma’ me të cilën fillon akti i tretë.
URL:https://operabalet.mk/al/event/turandot-premiere/
LOCATION:Array
CATEGORIES:Оperë
ATTACH;FMTTYPE=image/jpeg:https://operabalet.mk/al/wp-content/uploads/sites/3/2016/03/TEST-TURANDOT.jpg
END:VEVENT
END:VCALENDAR