BEGIN:VCALENDAR
VERSION:2.0
PRODID:-//Opera dhe Baleti Nacional - ECPv4.0.7//NONSGML v1.0//EN
CALSCALE:GREGORIAN
METHOD:PUBLISH
X-WR-CALNAME:Opera dhe Baleti Nacional
X-ORIGINAL-URL:https://operabalet.mk/al
X-WR-CALDESC:Events for Opera dhe Baleti Nacional
BEGIN:VEVENT
DTSTART;TZID="UTC+0":20220209T200000
DTEND;TZID="UTC+0":20220209T224500
DTSTAMP:20260423T174623
CREATED:20220121T085806
LAST-MODIFIED:20220207T091706
UID:467-1644436800-1644446700@operabalet.mk
SUMMARY:„TURANDOT“ - Xhakomo Puçini (09.02.2022)
DESCRIPTION:\nDirigjent: Bisera Çadllovska\nRegjisor\, skenograf\, kostumograf: Xhankarlo del Monako (Itali)\nMjeshtër koncerti: Jane Bakevski\nMjeshtër ndriçimi: Volfgang von Zubek (Austri)\nAsistente dirigjenti: Katerina Stojkovska\nAsistentë regjie: Lupka Jakimovska\, Trajko Jordanovski\nAsistent i mjeshtrit të korit: Jasmina Gjorgjeska\, Gjurgjica Dashiq\nKorepetitorë: Elena Siljanovska\, Janinka Nevçeva\, Andreja Naunov\, Jordan Petrushevski\nMARRIN PJESË:\nTurandot: Vesna Gjinovska Ilkova\nKalif: Gjorgi Cuckovski\nLiu: Zllata Toshevska\nTimur: Vlladimir Sazdovski\nPing: Teodor Petkov (Bullgari)\nPang: Jane Dunimagloski\nPong: Dejan Stoev\nMandarini: Dime Petrov\nAltoum: Mirosllav Antovski\nMarrin pjesë edhe kori e orkestra e OBK\nInspicientë: Lupço Polizov\, Dragan Kostadinoviq\, Marko Pavlevski\nSuflerë: Pavlina Zdravkova\, Svetlana Georgieva
URL:https://operabalet.mk/al/event/turandot-xhakomo-pucini-09-02-2022/
LOCATION:Array
CATEGORIES:Оperë
ATTACH;FMTTYPE=image/jpeg:https://operabalet.mk/al/wp-content/uploads/sites/3/2016/03/TEST-TURANDOT.jpg
END:VEVENT
END:VCALENDAR