BEGIN:VCALENDAR
VERSION:2.0
PRODID:-//Opera dhe Baleti Nacional - ECPv4.0.7//NONSGML v1.0//EN
CALSCALE:GREGORIAN
METHOD:PUBLISH
X-WR-CALNAME:Opera dhe Baleti Nacional
X-ORIGINAL-URL:https://operabalet.mk/al
X-WR-CALDESC:Events for Opera dhe Baleti Nacional
BEGIN:VEVENT
DTSTART;TZID="UTC+0":20231013T200000
DTEND;TZID="UTC+0":20231013T230000
DTSTAMP:20260423T195001
CREATED:20230921T085126
LAST-MODIFIED:20231006T091944
UID:663-1697227200-1697238000@operabalet.mk
SUMMARY:“TURANDOT” - Xhakomo Puçini (13.10.2023)
DESCRIPTION:\n13.10.2023\nXhakomo Puçini\n“TURANDOT”\nSalloni i OBN-së\, me fillim në orën 20:00\nDirigjent: Ivan Eminoviq\nRegjisor\, Skenograf\, Kostumograf: Xhankarllo del Monako (Itali)\nAsistent regjisore: Ljupka Jakimovska\, Trajko Jordanovski\nMjeshtër koncerti: Verica Lambevska\nMjeshtër ndriçimi: Volfang Fon Cubek (Austri)\nMjeshtër kori: Jasmina Gjorgjeska\nAsistent dirigjente: Katerina Stojkovska\nKorepetitorë: Elena Siljanoska\, Janinka Nevçeva\, Andreja Naunov\, Jordan Petrushevski\nTurandot: Vesna Gjinovska Ilkova\nKallaf: Gjorgi Cuckovski\nLiu: Sandra Mitrovska\nTimur: Vlladimir Sazdovski\nPing: Dragan Ampov\nPang: Jane Dunimaglloski\nPong: Dejan Stoev\nMandarin: Dime Petrov\nAlltoum: Marjan Nikollovski\nMarrin pjesë: Kori\, ansambli i baletit të femrave dhe orkestra e OBN-së\nInspicientë: Ljupço Poplizov\, Dragan Kostadionoviq\, Marko Pavllevski\nSufler: Nevena Georgieva\n
URL:https://operabalet.mk/al/event/turandot-xhakomo-pucini-13-10-2023/
LOCATION:Array
CATEGORIES:Оperë
ATTACH;FMTTYPE=image/jpeg:https://operabalet.mk/al/wp-content/uploads/sites/3/2016/03/TEST-TURANDOT.jpg
END:VEVENT
END:VCALENDAR