BEGIN:VCALENDAR
VERSION:2.0
PRODID:-//Opera dhe Baleti Nacional - ECPv4.0.7//NONSGML v1.0//EN
CALSCALE:GREGORIAN
METHOD:PUBLISH
X-WR-CALNAME:Opera dhe Baleti Nacional
X-ORIGINAL-URL:https://operabalet.mk/al
X-WR-CALDESC:Events for Opera dhe Baleti Nacional
BEGIN:VEVENT
DTSTART;TZID="UTC+0":20220113T200000
DTEND;TZID="UTC+0":20220113T220000
DTSTAMP:20260423T161401
CREATED:20211229T105544
LAST-MODIFIED:20220111T113150
UID:459-1642104000-1642111200@operabalet.mk
SUMMARY:VIVA L’OPERA! - Njoftim për koncertin me rastin e festës “Vasilica” (13.1.2021)
DESCRIPTION:\nNjoftim për koncertin me rastin e festës “Vasilica”\nVIVA L’OPERA!\n 12 dhe 13 janar\, 2022\n Salloni i OBK\, ora 20\nDirigjentë:\nBisera Çadllovska\nIvan Eminoviq\nRegjia:\nDejan Proshev\nDritat dizajni:\nNino Mitevski\nMjeshtër koncerti:\nKliment Todoroski\nKor mjeshtër:\nJasmina Hjorgjeska\nPjesëmarrës\nSandra Mitrovska – soprano\nBiljana Josifov– soprano\nZlata Toshevska - soprano\nNade Talevska – soprano\nGjorgji Cuckovski – tenor\nMarjan Jovanoski - bariton\nAleksandar Setefanoski – bas\nMarrin pjesë edhe kori e orkestra e Operës dhe Baletit Kombëtar\nMe këtë rast do të ekzekutohen arie\, duete dhe pjesë me kor nga operat dhe operetat nga kompozitorët: Mocarti\, Belini\, Delibi\, Puçini\, Verdi\, Xhordano\, Leonkavalo\, Kalmani\, Lehari.\n
URL:https://operabalet.mk/al/event/viva-lopera-njoftim-per-koncertin-me-rastin-e-festes-vasilica-13-1-2021/
LOCATION:Array
CATEGORIES:Koncert
ATTACH;FMTTYPE=image/jpeg:https://operabalet.mk/al/wp-content/uploads/sites/3/2021/12/vasilica-2022.jpg
END:VEVENT
END:VCALENDAR