BEGIN:VCALENDAR
VERSION:2.0
PRODID:-//Opera dhe Baleti Nacional - ECPv4.0.7//NONSGML v1.0//EN
CALSCALE:GREGORIAN
METHOD:PUBLISH
X-WR-CALNAME:Opera dhe Baleti Nacional
X-ORIGINAL-URL:https://operabalet.mk/al
X-WR-CALDESC:Events for Opera dhe Baleti Nacional
BEGIN:VEVENT
DTSTART;TZID="UTC+0":20251121T200000
DTEND;TZID="UTC+0":20251121T223000
DTSTAMP:20260423T104708
CREATED:20251010T090825
LAST-MODIFIED:20251010T090825
UID:987-1763755200-1763764200@operabalet.mk
SUMMARY:“ZONJA  BOVARI” - BALET (21.11.2025)
DESCRIPTION:\n“ZONJA  BOVARI”\n(balet)\nMuzika: K. Sen-Sans\, M. Ravel\, Zh. Masne\, F. Mendelson\, G. F. Hendel\nDirigjent: Eduard Ambarcumjan (Armeni)\nKoreograf: Viktor Ishçuk (Ukrainë)\nLibreto: sipas romanit “Zonja Bovari” të G. Floberit\nSkenograf: Andrej Zlobin (Ukrainë)\nKostumograf: Gana Ipatieva (Ukrainë)\nMenaxher i përgjithshëm i projektit: Kiro Pavllov\nAsistent koreograf: Vladimir Borisov (Ukrainë)\nAsistentë kostumografë: Marija Pupuçevska\, Angjela Bogeska\nRepetitorë: Aleksandra Mijalkova\, Vladimir Borisov (Ukrainë)\, Dafina Daniloska–Koçevska\, Marija Josifovska Ristovska\, Biljana Basmaxhieva Kovaçevski\nKoncert-mjeshtër: Jane Bakevski\nPianist: Andrej Naunov\nDizajn i ndriçimit: Millço Aleksandrov\nInspektorë skene: Tijana Tarçugovska Gjorgjieva\, Dubravka Shopova\nKorepetitorë: Marjan Vasilevski\, Stefan Pehçevski\nNë rolet kryesore:\nEma Bovari: Marija Kichevska Shokarovska\nSharl Bovari: Francisko Himenez Ruiz (Spanjë)\nRudolf Bulanzhe: Balazh Loçei (Hungari)\nMarrin pjesë solistë\, Ansambli i Baletit dhe Orkestra e Operës dhe Baletit Nacional\nKohëzgjatja: akti I 1 orë\nPauzë\nAkti II 1 orë\n“Zonja Bovari” – Balet në dy akte bazuar në romanin e Gustav Floberit (1857)\nPersonazhet:\nEma Bovari – një grua e re e fiksuar pas ëndrrave të dashurisë romantike dhe jetës së lartë\nSharl Bovari – bashkëshorti i saj\, një mjek provincial\, i sjellshëm\, por i thjeshtë\nRudolph Bullanzhe – një aristokrat simpatik dhe joshes\nTregtari Lere (menaxher kabare) – një shitës që ofron pasuri për borxhet\nDoktor Ome – një farmacist fshati\, mendjemprehtë dhe llafazan\nMarkezi dhe baronesha – mikpritës i ballos gala\nShënim\nEma Bovari e re dhe ëndërrimtare po mbytet në martesën e saj me Sharl\, një mjek i ndershëm\, por i mërzitshëm provincial. Pavarësisht ditëve gri në provincë\, imagjinata e saj është e mbushur me vizione pasioni\, ballo dhe shkëlqimi parizian. Por në rrugën drejt atyre ëndrrave\, Ema zhytet gjithnjë e më thellë në vetë-mashtrim\, tradhti bashkëshortore\, borxhe financiare dhe në fund tragjedi.\nAkti I\nSkena I: Ball në Kala\nEma dhe Charles janë të ftuar në një kështjellë ku shkëlqejnë llambadarët\, luan muzikë dhe çiftet kërcejnë\, kjo është jeta e ëndrrave të Emës. Ajo është si në një përrallë. Por\, duke u kthyer në shtëpinë e saj modeste\, gjithçka zhytet sërish në heshtjen dhe mërzinë e jetës provinciale.\nSkena II: Njohje të reja\nBota e saj është e kufizuar tek burri i saj\, farmacisti Ome dhe tregtari Lere. Por rasti sjell një fytyrë të re: RudolF Bulanzhe\, një fisnik që vjen për ndihmë mjekësore. Mes tij dhe Emës krijohet menjëherë një shkëndijë. Sjelljet dhe tregimet e tij për Parisin e magjepsin atë. Ajo e pret me padurim takimin e ri.\nSkena III: Dyqani i Leres\nE etur për t’i bërë përshtypje Rudolfit\, Ema shkon te Lere\, e rrethuar nga pëlhura\, bizhuteri dhe luks. Ajo e kupton se nuk mund ta përballojë atë. Lere i ofron asaj një kredi të siguruar nga prona e Sharl. Nën presion\, ajo pranon.\nSkena IV: Shëtitorja në park\nGjatë një shëtitjeje me të ftuar me ndikim\, Ema afrohet me Rudolf. Ata ndahen dhe pasioni ndizet.\nAkti II\nSkena I: Shtëpia e Rudolfit\nEma tani shpesh zhduket nga shtëpia\, duke iu dorëzuar dashurisë në shtëpinë e Rudolfit. Ata këndojnë një duet pasioni dhe premtimesh. Rudolf i premton se do ta çojë në Paris.\nSkena II: Festa në Kabare
URL:https://operabalet.mk/al/event/zonja-bovari-balet-21-11-2025/
LOCATION:Array
CATEGORIES:Balet
ATTACH;FMTTYPE=image/jpeg:https://operabalet.mk/al/wp-content/uploads/sites/3/2025/10/bovari.jpeg
END:VEVENT
END:VCALENDAR