BEGIN:VCALENDAR
VERSION:2.0
PRODID:-//Opera dhe Baleti Nacional - ECPv4.0.7//NONSGML v1.0//EN
CALSCALE:GREGORIAN
METHOD:PUBLISH
X-WR-CALNAME:Opera dhe Baleti Nacional
X-ORIGINAL-URL:https://operabalet.mk/al
X-WR-CALDESC:Events for Opera dhe Baleti Nacional
BEGIN:VEVENT
DTSTART;TZID="UTC+0":20250625T200000
DTEND;TZID="UTC+0":20250625T223000
DTSTAMP:20260423T115747
CREATED:20250613T075409
LAST-MODIFIED:20250625T102855
UID:938-1750881600-1750890600@operabalet.mk
SUMMARY:“ZONJA BOVARI” – PREMIERë BALETI (25.6.2025)
DESCRIPTION:\n“ZONJA BOVARI” – PREMIERë BALETI (25.06.2025)\nShënimi i 25 vjetorit të veprimtarisë artistike të Marija Kiçevska Shokarovskës\n25.6.2025\, ora 20:00 – premierë\nMuzika: Kamij Sen – Sans\, Moris Ravel\, Zhil Masne\, Feliks Mendelson\, Georg Fridrih Hendl\nDirgjent: Eduard Ambarcumjan (Armeni)\nKoreograf: Viktor Ishçuk (Ukrainë)\nLibreti: Sipas romanit “Zonja Bovari” nga Gustav Fllober\nSkenograf: Andrej Zllobin (Ukrainë)\nKostumografe: Gana Ipatieva (Ukrainë)\nAsistent koreograf: Vladimir Borisov (Ukrainë)\nAsistent kostimugrafe: Marija Pupuqevska\, Angela Bogeska\nRepetitorë: Aleksandra Mijallkova\, Vasill Çiçiashvili\, Vlladimir Borisov (Ukrainë)\,  Dafina Danilloska– Koçevska\, Marija Josifovska Ristovska\, Biljana Basmaxhieva- Kovaçevski\nMjeshtër koncerti: Kliment Todoroski\nPiano: Andreja Naunov\nDizajn i ndriçimit: Millço Aleksandrov\nInspicientë: Tijana Tarçugovska Georgieva\nKorepetitorë: Marjan Vasilevski\, Stefan Pehçevski\nNë rrolet kryesore:\nEma Bovari: Marija Kiçevska Shokarovska\nSharll Bovari: Francisko Himenez Ruiz\nRudollf Bullanzhe: Ballazh Lloçei\nTregtari Lere (shef i kabares) : Dmitro Çebotar\nDoktor Ome: Endru Kuk\nMarrin pjesë solistë\, Ansambli i Baletit dhe Orkestra e Operës dhe Baletit Nacional\nKohëzgjatja: akti I 1 orë\nPauzë\nAkti II 1 orë\n"Zonja Bovari" - Balet në dy akte bazuar në romanin e Gustav Floberit (1857)\nPersonazhet:\nEma Bovari - një grua e re e fiksuar pas ëndrrave të dashurisë romantike dhe jetës së lartë\nSharl Bovari - bashkëshorti i saj\, një mjek provincial\, i sjellshëm\, por i thjeshtë\nRudolph Bullanzhe - një aristokrat simpatik dhe joshes\nTregtari Lere (menaxher kabare) - një shitës që ofron pasuri për borxhet\nDoktor Ome - një farmacist fshati\, mendjemprehtë dhe llafazan\nMarkezi dhe baronesha - mikpritës i ballos gala\nShënim\nEma Bovari e re dhe ëndërrimtare po mbytet në martesën e saj me Sharl\, një mjek i ndershëm\, por i mërzitshëm provincial. Pavarësisht ditëve gri në provincë\, imagjinata e saj është e mbushur me vizione pasioni\, ballo dhe shkëlqimi parizian. Por në rrugën drejt atyre ëndrrave\, Ema zhytet gjithnjë e më thellë në vetë-mashtrim\, tradhti bashkëshortore\, borxhe financiare dhe në fund tragjedi.\nAkti I\nSkena I: Ball në Kala\nEma dhe Charles janë të ftuar në një kështjellë ku shkëlqejnë llambadarët\, luan muzikë dhe çiftet kërcejnë\, kjo është jeta e ëndrrave të Emës. Ajo është si në një përrallë. Por\, duke u kthyer në shtëpinë e saj modeste\, gjithçka zhytet sërish në heshtjen dhe mërzinë e jetës provinciale.\nSkena II: Njohje të reja\nBota e saj është e kufizuar tek burri i saj\, farmacisti Ome dhe tregtari Lere. Por rasti sjell një fytyrë të re: RudolF Bulanzhe\, një fisnik që vjen për ndihmë mjekësore. Mes tij dhe Emës krijohet menjëherë një shkëndijë. Sjelljet dhe tregimet e tij për Parisin e magjepsin atë. Ajo e pret me padurim takimin e ri.\nSkena III: Dyqani i Leres\nE etur për t'i bërë përshtypje Rudolfit\, Ema shkon te Lere\, e rrethuar nga pëlhura\, bizhuteri dhe luks. Ajo e kupton se nuk mund ta përballojë atë. Lere i ofron asaj një kredi të siguruar nga prona e Sharl. Nën presion\, ajo pranon.\nSkena IV: Shëtitorja në park\nGjatë një shëtitjeje me të ftuar me ndikim\, Ema afrohet me Rudolf. Ata ndahen dhe pasioni ndizet.\nAkti II\nSkena I: Shtëpia e Rudolfit\nEma tani shpesh zhduket nga shtëpia\, duke iu dorëzuar dashurisë në shtëpinë e Rudolfit. Ata këndojnë një duet pasioni dhe premtimesh. Rudolf i premton se do ta çojë në Paris.\nSkena II: Festa në Kabare\nNë një festë të egër të organizuar nga Lere\, Ema dhe Rudolf humbasin veten në një vorbull pasioni. Ndërkohë\, Ome i tregon Sharlesit dëshminë e tradhtisë. Sharlsi gjen Emën në kabare. Edhe pse i lënduar\, ai i lutet asaj për falje. Ema e refuzon atë dhe njofton se do të shkojë me Rudolfin.\nSkena III: Rënia e iluzionit\nLere kërkon paratë. Ema i kthehet Rudolfit\, por ai\, duke e parë pa para\, tërhiqet. E dëshpëruar\, Ema e sheh vetëvrasjen si të vetmen rrugëdalje.\nSkena IV: Epilog\nSharl\, i thyer nga pikëllimi\, humbet gjithçka\, gruan\, shtëpinë\, veten. Ai ka mbetur vetëm\, në një botë pa shpresë.
URL:https://operabalet.mk/al/event/zonja-bovari-premiere-baleti-25-6-2025/
LOCATION:Array
CATEGORIES:Balet
ATTACH;FMTTYPE=image/png:https://operabalet.mk/al/wp-content/uploads/sites/3/2025/06/bovari_slide.png
END:VEVENT
END:VCALENDAR