BEGIN:VCALENDAR
VERSION:2.0
PRODID:-//Opera dhe Baleti Nacional - ECPv4.0.7//NONSGML v1.0//EN
CALSCALE:GREGORIAN
METHOD:PUBLISH
X-WR-CALNAME:Opera dhe Baleti Nacional
X-ORIGINAL-URL:https://operabalet.mk/al
X-WR-CALDESC:Events for Opera dhe Baleti Nacional
BEGIN:VEVENT
DTSTART;TZID="UTC+0":20240320T200000
DTEND;TZID="UTC+0":20240320T220000
DTSTAMP:20260423T180423
CREATED:20240226T160719
LAST-MODIFIED:20240226T160748
UID:737-1710964800-1710972000@operabalet.mk
SUMMARY:ZONJA ME KAMELI - XHUSEPE VERDI (20.3.2024)
DESCRIPTION:\nXHUSEPE VERDI\nZONJA ME KAMELI\n(shfaqje baleti)\n20.03.2024 – 20.00\nDirigjent: Ivan Eminoviq\nKoreografi: Vasilij Medvedev (Rusi)\nLibreto: Jana Temiz\nSkenograf\, kostumograf dhe dizajn dritë: Pavol Juras (Sllovaki)\nAss. koreograf: Stanislav Feço (Republika Çeke)\nMjeshtër koncerti:\nRepetitorë: Irena Pasariq (Kroaci)\, Goran Bozhinov\, Aleksandra Mijalkova\, Sasha Evtimova dhe Dafina Daniloska-Koçevska\nInspicientë: Dubravka Shopova\, Tijana Tarçugovska Georgieva\nKorepetitorë: Marjan Vasilevski\, Stefan Pehçevski\nNë rolet kryesor:\nMargarita: Mimi Pop Aleksova Atanasovska\nArmand: Boban Kovaçevski\nInterpretojnë solistët\, ansambli i baletit dhe orkestra e Operës dhe Baletit Nacional\nKohëzgjatja: 2 orë\nSinopsis\n“Zonja me Kamelie” është një prodhim baleti që u prit mjaftë mirë nga publiku dhe mori vlerësime pozitive në premierën e tij\, më 31 tetor 2014. Muzika është e të famshmit Xhusepe Verdi\, kurse sfondi dramaturgjik është marrë nga “Traviata” e tij e njohur. Koreografia është e të ftuarit nga Rusia\, Vasilij Medvedev\, kostumet e bukura dhe skenografia janë vepër e Pavol Juras\, mysafir nga Sllovakia.\nAKTI I\nPamja 1\nBallo. Zonja dhe zotërinj\, duke përfshirë zonjat e animuara me klientët e tyre\, luajnë\, flasin. Çiftet largohen dhe kthehen. Armando është një i ri naiv. Margarita ia tërheq vëmendjen dhe menjëherë në shikim të parë bie në dashuri me të. Ai përpiqet të arrijë vajzën. Margarita pranon miqësinë e tij. Armando është i emocionuar. Ai zbulon se Margarita është e sëmurë. Ai e ndihmon atë. Pranon se e do atë. Ata bashkë largohen nga balloja.\nPamja 2\nArmando dhe Margarita janë në Paris. Rruga është e mbushur me kalimtarë. Vajzat e luleve i afrohen çiftit të dashuruar. Një nga një u ofrojnë lule të ndryshme: trëndafila\, zambakë\, jargavan. Armando blen kameli. Margarita është e gëzuar pa masë. Ajo mban buqetën me kameli\, duke e ditur që Armando e do. Ajo ia kthen me emocionet e saj. Ajo vendos lule kamelie në flokë\, në fustan\, në xhaketën e Armandos. Ata janë të lumtur… Kamelitë bëhen simbol i dashurisë së tyre.\nPamja 3\nDhoma e Margaritës. Margarita e përcjell Armandon pasi kaluan natën së bashku. Ajo është e vetme dhe e lumtur\, duke ëndërruar për dashurinë e saj. Shërbëtorja njofton për një vizitë. Një nga ish-klientët e saj\, mbrojtësi i saj\, vjen për ta vizituar. Dhe ofron para për dashuri. Margarita e refuzon atë. Ajo nuk dëshiron më të shesë dashurinë e saj. Armando rikthehet papritur! Përballet me kundërshtarin. Margarita pranon se e do vetëm atë. Armando i lutet dhe i kërkon të heqë dorë nga jeta e mëparshme dhe të largohen së bashku nga Parisi. Në fshat\, në natyrë\, ajo do të shërohet dhe do të jetë e lumtur. Të rinj dhe të dashuruar\, plot shpresë që duan pafundësisht të nisin një jetë të re.\nAKTI II\nPamja 4\nArmando dhe Margarita janë në fshat. Shërbëtorja u lajmëron atyre për njerëzit që kanë ardhur për borxhin e tyre. Armando del shpejt për t’i takuar.\nPamja 5\nShfaqet babai i Armandos. Ai përpiqet të bindë Margaritën të largohet nga Armando. Ai i ofron asaj një byzylyk diamanti. E tërbuar\, Margarita e refuzon dhe e hedh byzylykun në dysheme. I përkeqësohet shëndeti. Babai e kupton situatën – ajo e do vërtet djalin e tij dhe është shumë e sëmurë. E zhgënjyer\, Margarita i premton babait të Armandit se do të largohet nga i dashuri. Ajo i shkruan një letër lamtumire\, i vendos një lule kamelie në letër dhe pavarësisht sëmundjes kthehet në Paris dhe në jetën e saj të mëparshme. Duke marrë letrën e Margaritës\, Armando është i shqetësuar.\nPamja 6\nGjithçka është e zakonshme në Paris. Ballo përsëri…Margarita është e rrethuar nga fansat dhe klientët e saj. Dashuria ka lënë një gjurmë të thellë tek ajo dhe tani është ndryshe\, e trishtuar dhe e pa interesuar për asgjë. Këtu vjen Armando. Ai dëshiron të harrojë Margaritën dhe nuk pret ta takojë. Duke e vënë re\, i afrohet dhe e akuzon se ishte me të për para. Për ta poshtëruar\, ai i jep para. Margarita e lë ballon e poshtëruar dhe e dëshpëruar.\nPamja 7\nDhoma e Margaritës. Ajo është kthyer nga balloja e thyer nga dhimbja dhe e poshtëruar. Ajo është e sëmurë rëndë. Vajton në vetmi\, duke pritur vdekjen e saj. Shërbëtorja përgatit shtratin e saj. Margarita bëhet gjithnjë e më keq. Në agoninë e vdekjes\, ajo sheh Armandon – sikur po kthehet në ditët e lumtura të dashurisë së tyre. Për fat të keq\, shfaqja zhduket. Margarita është e rraskapitur\, e pakënaqur dhe e vetme. Ajo përqafon buqetën me kamelia që sjellin kujtime. Forca e lë dhe ajo vdes.\n 
URL:https://operabalet.mk/al/event/zonja-me-kameli-xhusepe-verdi-20-3-2024/
LOCATION:Array
CATEGORIES:Balet
ATTACH;FMTTYPE=image/jpeg:https://operabalet.mk/al/wp-content/uploads/sites/3/2019/10/damata-kamelii.jpg
END:VEVENT
END:VCALENDAR