BEGIN:VCALENDAR
VERSION:2.0
PRODID:-//Opera dhe Baleti Nacional - ECPv4.0.7//NONSGML v1.0//EN
CALSCALE:GREGORIAN
METHOD:PUBLISH
X-WR-CALNAME:Opera dhe Baleti Nacional
X-ORIGINAL-URL:https://operabalet.mk/al
X-WR-CALDESC:Events for Opera dhe Baleti Nacional
BEGIN:VEVENT
DTSTART;TZID="UTC+0":20240411T200000
DTEND;TZID="UTC+0":20240411T210000
DTSTAMP:20260423T160843
CREATED:20240321T093115
LAST-MODIFIED:20240321T093115
UID:744-1712865600-1712869200@operabalet.mk
SUMMARY:ZONJA NGA AVINJON (11.4.2024 )
DESCRIPTION:\nZONJA NGA AVINJON\nBalet në 9 pamje\n11.4.2024\nEkipi i autorëve\nMuzika: Kaliopi Bukle\nKoreograf dhe regjia: Ollga Pango\nLibreton dhe dramaturgjinë: Sasho Dimovski\nAsistentë koreografie: Goran Bozhinov\, Sasha Evtimov\nKostumograf: Rade Vasilev\nDizajn skenik dhe multimedial: Emil Petrov\nDizajni i ndriçimit: Millço Aleksandrov\nDizajni i grimit: Zllatica Popovska\nJanë shfrytëzuar elemente nga opera “Nusja e dragoit” – skenograf Valentin Svetozarev\nROLET:\nOlga Koklova – Aleksandra Mijallkova\nDora Maar – Mimi Popo Aleksova Atanasovska\nEva Guel - Ivana Kocevska\nMari Terez Vallter – Sasha Evtimova\nFransuaz Zhilo - Hristina Naqevska\nPostieri - Mirosllav Mitrashinoviq\nEmbëltori - Ballazh Llashei (Hungari)\nMiku – Agim Baftii\nKëpuctari - Endru Kuk (Angli)\n
URL:https://operabalet.mk/al/event/zonja-nga-avinjon-11-4-2024/
LOCATION:Array
CATEGORIES:Balet
ATTACH;FMTTYPE=image/jpeg:https://operabalet.mk/al/wp-content/uploads/sites/3/2022/02/avignon.jpg
END:VEVENT
END:VCALENDAR