BEGIN:VCALENDAR
VERSION:2.0
PRODID:-//Opera dhe Baleti Nacional - ECPv4.0.7//NONSGML v1.0//EN
CALSCALE:GREGORIAN
METHOD:PUBLISH
X-WR-CALNAME:Opera dhe Baleti Nacional
X-ORIGINAL-URL:https://operabalet.mk/al
X-WR-CALDESC:Events for Opera dhe Baleti Nacional
BEGIN:VEVENT
DTSTART;TZID="UTC+0":20230124T200000
DTEND;TZID="UTC+0":20230124T210000
DTSTAMP:20260423T205012
CREATED:20230110T145304
LAST-MODIFIED:20230110T145304
UID:580-1674590400-1674594000@operabalet.mk
SUMMARY:ZONJAT NGA AVINJONI (24.1.2023)
DESCRIPTION:\nZONJAT NGA AVINJONI\n(24.1.2023 – ora 20:00)\nBalet në 9 pamje\nMUZIKA: Kaliopi Bukle\nKOREOGRAFIA DHE REGJIA: Olga Pango\nLIBRETON DHE DRAMATURGJINË: Sasho Dimoski\nASISTENETË TË KOREOGRAFIT: Goran Bozhinov\, Sasha Evtimova\nKOSTUMOGRAF: Rade Vasilev\nMULTIMEDIA DHE DIZAJNI: Emil Petrov\nDIZAJNI I DRITËS: Milço Aleksandrov\nDIZAJNI I GRIMIT: Zlatica Popovska\nPërdoren elemente skenografike nga opera "Nusja e Dragoit" - skenografi Valentin Svetozarev\nMarrin pjesë:\nOLGA KOKLOVA – Aleksandra Mijallkova\nDORA MAAR – Mimi Pop-Aleksova Atanasovska\nEVA GUEL – Ivana Kocevska\nMARIE-TEREZ VALTER – Sasha Evtimova\nFRANCOAZ ZHILOT – Hristina Naqevska\nPOSTIERI – Miroslav Mitrashinoviq\nËMBËLTORI – Balazh Loçei (Hungari)\nSHOKU – Agim Baftii\nKËPUCËTARI - Endru Kuk (Angli)\nKohëzgjatja: 1 orë\nHistoria i ç’mistifikon/zbërthen pesë kurtizanet\, duke i rishkruar si pesë gra që shënuan jetën e trazuar të dashurisë së Picasso-s dhe marrëdhëniet që këto gra kanë me "personazhe pa veti të rëndësishme"\, siç shkruante dramaturgu. Këto pesë histori dashurie\, rreth të cilave një mizë gumëzhin vazhdimisht\, formojnë një tërësi në komplotin kundër mizës - për ta vrarë atë\, dhe duke e vrarë - për ta thithur përgjithmonë në vetvete.
URL:https://operabalet.mk/al/event/zonjat-nga-avinjoni-24-1-2023/
LOCATION:Array
CATEGORIES:Balet
ATTACH;FMTTYPE=image/jpeg:https://operabalet.mk/al/wp-content/uploads/sites/3/2022/02/avignon.jpg
END:VEVENT
END:VCALENDAR