BEGIN:VCALENDAR
VERSION:2.0
PRODID:-//National opera and ballet - ECPv4.0.7//NONSGML v1.0//EN
CALSCALE:GREGORIAN
METHOD:PUBLISH
X-WR-CALNAME:National opera and ballet
X-ORIGINAL-URL:https://operabalet.mk/en
X-WR-CALDESC:Events for National opera and ballet
BEGIN:VEVENT
DTSTART;TZID="UTC+0":20190319T200000
DTEND;TZID="UTC+0":20190319T223000
DTSTAMP:20260424T095722
CREATED:20190305T212310
LAST-MODIFIED:20190305T212353
UID:826-1553025600-1553034600@operabalet.mk
SUMMARY:Anna Karenina - P. I.  Tchaikovsky (19.3.2019)
DESCRIPTION:\n\nChoreography: Leo Mujic (Croatia)\nCostume design: Aleksandar Noshpal\nAdaptation of the set design : Mihajlo Stojanovski\, Sasho Stojanovski\nLight design: Milcho Aleksandrov\nPainter: Zoran Kostovski\nGraphic design: Emil Petrov\nStage managers: Dubravka Sopova\, Tijana Tarchugovska\, Ljupka Arsovska\nAccompanists: Marjan Vasilevski\, Stefan Pehcevski\nRepetitours: Goran Bozhinov\, Lora Tarchugoska\nAssistant costume design: Emanuela Trajceska\n\nCast:\nAnna Karenina: Mimi Pop Aleksova Atanasovska\nVronsky: Boban Kovachevski\nKarenin: Vasil Chichiashvili (Georgia)\nKitty: Hristina Nakjevska\n\nFeatured soloists corps de Ballet
URL:https://operabalet.mk/en/event/826/
LOCATION:Blvd. Goce Delchev 4\, Skopje\, 1000\, Macedonia
CATEGORIES:ballet
ATTACH;FMTTYPE=image/jpeg:https://operabalet.mk/en/wp-content/uploads/sites/2/2019/01/ana-karenina-web.jpg
END:VEVENT
END:VCALENDAR