BEGIN:VCALENDAR
VERSION:2.0
PRODID:-//National opera and ballet - ECPv4.0.7//NONSGML v1.0//EN
CALSCALE:GREGORIAN
METHOD:PUBLISH
X-WR-CALNAME:National opera and ballet
X-ORIGINAL-URL:https://operabalet.mk/en
X-WR-CALDESC:Events for National opera and ballet
BEGIN:VEVENT
DTSTART;TZID="UTC+0":20190919T200000
DTEND;TZID="UTC+0":20190919T230000
DTSTAMP:20260425T033830
CREATED:20190903T143829
LAST-MODIFIED:20190906T140341
UID:895-1568923200-1568934000@operabalet.mk
SUMMARY:ANNA KARENINA - P. I. TCHAIKOVSKY (19.9.2019)
DESCRIPTION:\n\nChoreography: Leo Mujic (Croatia)\nCostume design: Aleksandar Noshpal\nAdaptation of the set design : Mihajlo Stojanovski\, Sasho Stojanovski\nLight design: Milcho Aleksandrov\nPainter: Zoran Kostovski\nGraphic design: Emil Petrov\nStage managers: Dubravka Sopova\, Tijana Tarchugovska\, Ljupka Arsovska\nAccompanists: Marjan Vasilevski\, Stefan Pehcevski\nRepetitors: Goran Bozhinov\, Lora Tarchugoska\nAssistant costume design: Emanuela Trajceska\nCast:\nAnna Karenina: Mimi Pop Aleksova Atanasovska\nVronsky: Boban Kovachevski\nKarenin: Vasil Chichiashvili (Georgia)\n\nFeatured soloists\, corps de Ballet\nSynopsis according to the novel from L.N. Tolstoy\n““All happy families are alike; each unhappy family is unhappy in its own way.” - L.N. Tolstoy\nThe Ballet Anna Karenina:\nThe biggest challenge is to create work of art from two of the biggest creators of the Russian and world’s culture and art\, Lev Nikolayevich Tolstoy and Pyotr Ilyich Tchaikovsky.\nOne of the most significant literature novels “Ana Karenina”\, from the conclusion of the 19 and the whole 20 century is used as inspiration for many theatrical and movie creations.\nToday it is an inspiration for the choreographer Leo Mujic and the ballet ensemble of the National Opera and Ballet. Tchaikovsky\, most of the time was inspired from the Russian and world’s classic\, but has never used anything from Tolstoy. Anyhow\, for a romantic story such as “Anna Karenina”\, the most suitable one is exactly his music. (Currently choreographing\, utilizing parts from: D-major concert for violin and orchestra\, The Symphony in b-minor\, The Sentimental Waltz\, The Fifth Symphony in e-minor\, The Sixth Symphony in b-minor\, and Eileen in g-minor). Or how Tolstoy said: Where loves ends\, the hatred begins!\nIf we want to sum the point of the story in once sentence\, it would be the above one\, which is cliche for most novels and acts. The grandiose novel from Tolstoy\, written in couple hundred pages\, can never be just a cliche.\nAnna Karenina’s desire for young Vronski\, makes her refuse her wealth and family\, and ignore the prejudice of the social stigma of Royal Russia. For young Vronski\, she is only an adventure. At the end totally rejected from society\, declared of the possibility of seeing her son\, she decides to commit suicide.\nThe psychological drama of Karenina\, widespread between love and passion in one hand and the strict social norms \,her family\, husband\, son\, failed attempt for divorce\, on other hand\, drive her in the abysmal existence\, which leads to tragedy.\n\nTo be a living dead or dead sinner! This is the question that Tolstoy himself is asking\, which is the same question that the main character is troubled with. What is life without love?\nIt is impossible to tell the whole story through the dancing act and that is why in our Anna Karenina\, we accentuate the characters\, their characteristics\, their inner psychological feelings\, their emotions and their mutual relationships.\nWe want to create a dancing act which will touch not just us\, the viewers of the ballet\, but us as a living creatures of this new era.\nThrough dance and movement\, We want to convey the feelings\, state of the souls and mutual relationships of our characters.\nCombining the academic ballet with the modern dance expression\, geology and mimicry\, with our choreographic manuscript\, We will try to touch all of You.\nHence\, that is the point of the drama\, to be showed\, not retold!\n\nMA Krsto Skubev - a culturologist.\n\n 
URL:https://operabalet.mk/en/event/anna-karenina-p-i-tchaikovsky-19-9-2019/
LOCATION:Blvd. Goce Delchev 4\, Skopje
CATEGORIES:ballet
ATTACH;FMTTYPE=image/jpeg:https://operabalet.mk/en/wp-content/uploads/sites/2/2019/01/ana-karenina-web.jpg
END:VEVENT
END:VCALENDAR