BEGIN:VCALENDAR
VERSION:2.0
PRODID:-//National opera and ballet - ECPv4.0.7//NONSGML v1.0//EN
CALSCALE:GREGORIAN
METHOD:PUBLISH
X-WR-CALNAME:National opera and ballet
X-ORIGINAL-URL:https://operabalet.mk/en
X-WR-CALDESC:Events for National opera and ballet
BEGIN:VEVENT
DTSTART;TZID="UTC+0":20170327T200000
DTEND;TZID="UTC+0":20170327T220000
DTSTAMP:20260425T212954
CREATED:20170313T123605
LAST-MODIFIED:20170313T123631
UID:458-1490644800-1490652000@operabalet.mk
SUMMARY:APOCALYPTICUM - Dragan Dautovski (concert)
DESCRIPTION:
URL:https://operabalet.mk/en/event/apocalypticum-dragan-dautovski/
LOCATION:Blvd. Goce Delchev 4\, Skopje\, 1000\, Macedonia
CATEGORIES:Concert
ATTACH;FMTTYPE=image/jpeg:https://operabalet.mk/en/wp-content/uploads/sites/2/2017/03/dautovski.jpg
END:VEVENT
END:VCALENDAR