BEGIN:VCALENDAR
VERSION:2.0
PRODID:-//National opera and ballet - ECPv4.0.7//NONSGML v1.0//EN
CALSCALE:GREGORIAN
METHOD:PUBLISH
X-WR-CALNAME:National opera and ballet
X-ORIGINAL-URL:https://operabalet.mk/en
X-WR-CALDESC:Events for National opera and ballet
BEGIN:VEVENT
DTSTART;TZID="UTC+0":20160619T210000
DTEND;TZID="UTC+0":20160619T220000
DTSTAMP:20260424T211512
CREATED:20160530T232617
LAST-MODIFIED:20160613T123709
UID:223-1466370000-1466373600@operabalet.mk
SUMMARY:Atanas Badev “ZLATOUSTOVA LITURGIJA” (concert on the plateau of MOB)
DESCRIPTION:Conductor: Jasmina Gjorgjeska\nDirector: Ljupka Jakimovska\n\nPerforming: \nVladimir Sazdovski\nZoran sotirov\nThe Choir of MOB
URL:https://operabalet.mk/en/event/atanas-badev-zlatoustova-liturgija-concert-on-the-plateau-of-mob/
LOCATION:Array
CATEGORIES:Concert
ATTACH;FMTTYPE=image/gif:https://operabalet.mk/en/wp-content/uploads/sites/2/2016/03/01.gif
END:VEVENT
END:VCALENDAR