BEGIN:VCALENDAR
VERSION:2.0
PRODID:-//National opera and ballet - ECPv4.0.7//NONSGML v1.0//EN
CALSCALE:GREGORIAN
METHOD:PUBLISH
X-WR-CALNAME:National opera and ballet
X-ORIGINAL-URL:https://operabalet.mk/en
X-WR-CALDESC:Events for National opera and ballet
BEGIN:VEVENT
DTSTART;TZID="UTC+0":20211008T200000
DTEND;TZID="UTC+0":20211008T210000
DTSTAMP:20260423T155300
CREATED:20210924T115100
LAST-MODIFIED:20211005T144953
UID:1103-1633723200-1633726800@operabalet.mk
SUMMARY:autumn ballet collage - ballet concert (8.10.2021)
DESCRIPTION:"Autumn Ballet Collage" - Ballet Concert\n8.10.2021\, 8 pm\, National Opera and Ballet\nPerforming soloists and the ballet ensemble of the National Opera and Ballet\nRepetitours: Goran Bozhinov\, Aleksandra Mijalkova\, Lora Tarcugovska\, Sasha Evtimova\nDirector: Olga Pango and Dejan Prosev\nVideo design: Emil Petrov\nLight design: Milcho Aleksandrov\nProgram:\n"Eugene Onegin" - Poloneza (music by P.I. Tchaikovsky\, choreography of Sasha Evtimova)\nWomen: Simona Mitovska\, Ilijana Danilov\, Angela Bogatinova\, Bojana Hristovska\, Melanija Gocevska\, Ivana Dimkoska\, Vili Karajnova\, Teodora Stavrevska\, Matea Karevski\, Martina Dimovska\nMen: Igor Velanoski\, Balaz Lashei\, Miroslav Mitrashinovikj\, Jan Kisilev\, Andrew Cook (England)\, Agim Baftii\, Christian Yangos\, Martin Sazdovski\,\nNikola Orso\n"Ana Karenina" - Red Adagio (music by P.I. Tchaikovsky\, choreography by Leo Mujich)\nAna Karenina: Mimi Pop Aleksova Atanasovska\nVronsky: Boban Kovacevski\n"The Sleeping Beauty" - Blue Bird (music P.I. Tchaikovsky\, choreography by M. Petipa)\nPrincess Florin: Hristina Nakjevska\nBlue Bird: Andrew Cook (England)\n"Nutcracker" - Flower's Waltz (music by P.I. Tchaikovsky\, choreography by V.I. Vajnonen)\nSolo- Iliana Danilov\nTwo Girls - Simona Mitovska and Bojana Hristovska\nEnsemble: Diana Stojanovska\, Angela Velevska\, Angela Bogatinova\, Ivana Dimkoska\, Melanija Gocevska\, Teodora Stavrevska\, Vili Karajanova\, Andrijana Bogatinoska\, Matea Karevski\, Martina Dimovska\, Isidora Kitanovic\, Tova Perkovska Iva Perkovska\, Eva Perkovska\n"The Lady with the Camellias" - Waltz II Act (music G. Verdi\, choreography by V. Medvedev)\nWomen: Marija Gligorova\, Ivana Paneva\, Stefanija Kuzmanovska\, Maja Kostovska\, Bistra Ivanova\, Nikita Sabotkovska\, Gabriela Zinzirovska\, Brankica Joveska\, Isidora Kitanovi\,\, Natasa Trendafilova Gichev\nMen: Dragan Kocoski\, Stefan Kochevski\, Balaz Lashei\, Igor Velanoski\, Jan Kisilev\, Agim Baftii\, Miroslav Mitrashinovic\, Martin Sazdovski\, Kristijan Yangos\, Borjan Tetiev\, Nikola Orso\, Marin Anchevski\, Bojan Dimovski\n*********************\n"Tango do balchak" (music Duke Bojadziev\, coreography Sasha Evtimova)\nPerforming: Igor Velanoski\, Sasha Evtimova\n"Bolero" (music M. Ravel\, choreography Sasha Evtimova)\nEnsemble: Hristina Nakjevska\, Simona Mitovska\, Iliana Danilov\, Angela\nBogatinova\, Bojana Hristovska\, Melanija Gocevska\, Ivana Dimkoska
URL:https://operabalet.mk/en/event/autumn-ballet-collage-ballet-concert-6-10-2021/
LOCATION:Array
CATEGORIES:ballet
ATTACH;FMTTYPE=image/jpeg:https://operabalet.mk/en/wp-content/uploads/sites/2/2021/09/BALETSKI-KOLAZH-ENG.jpg
END:VEVENT
END:VCALENDAR