BEGIN:VCALENDAR
VERSION:2.0
PRODID:-//National opera and ballet - ECPv4.0.7//NONSGML v1.0//EN
CALSCALE:GREGORIAN
METHOD:PUBLISH
X-WR-CALNAME:National opera and ballet
X-ORIGINAL-URL:https://operabalet.mk/en
X-WR-CALDESC:Events for National opera and ballet
BEGIN:VEVENT
DTSTART;TZID="UTC+0":20211210T200000
DTEND;TZID="UTC+0":20211210T211500
DTSTAMP:20260423T111116
CREATED:20211123T104448
LAST-MODIFIED:20211123T104448
UID:1134-1639166400-1639170900@operabalet.mk
SUMMARY:Blagoj Nacoski- tenor (opera concert\, 10.12.2021)
DESCRIPTION:\nBlagoj Nacoski - tenor\n\nGuests:\nBiljana Josifov - soprano\nVladimir Sazdovski - bass\nPiano accompanist: Janinka Nevcheva\n 
URL:https://operabalet.mk/en/event/blagoj-nacoski-tenor-opera-concert-10-12-2021/
LOCATION:Array
CATEGORIES:Concert
ATTACH;FMTTYPE=image/jpeg:https://operabalet.mk/en/wp-content/uploads/sites/2/2021/11/blagoj.jpg
END:VEVENT
END:VCALENDAR