BEGIN:VCALENDAR
VERSION:2.0
PRODID:-//National opera and ballet - ECPv4.0.7//NONSGML v1.0//EN
CALSCALE:GREGORIAN
METHOD:PUBLISH
X-WR-CALNAME:National opera and ballet
X-ORIGINAL-URL:https://operabalet.mk/en
X-WR-CALDESC:Events for National opera and ballet
BEGIN:VEVENT
DTSTART;TZID="UTC+0":20221104T200000
DTEND;TZID="UTC+0":20221104T210000
DTSTAMP:20260423T111418
CREATED:20221027T080608
LAST-MODIFIED:20221027T080608
UID:1233-1667592000-1667595600@operabalet.mk
SUMMARY:"Bolero" - Maurice Ravel (ballet performance) - GALA OPERA CONCERT (4.11.2022)
DESCRIPTION:\n"Bolero" and "Gala Opera Concert".\nCenter of Culture - Gevgelija\nNovember 4\, 2022\, 8 p.m\n\n"Bolero" - Maurice Ravel (ballet play)\nChoreography: Sasha Evtimova\nCostume design: Marija Pupuchevska\nPerformers: Angela Velevska\, Iliajna Danilov\, Angela Bogatinova\, Bojana Hristovska Hourseau\, Melanija Gocevska\, Ivana Dimkoska\, Simona Kolishtrkoska\, Martina Dimovska\, Andrijana Bogatinoska\n*******\n"Gala Opera Concert"\nPerforming:\nAna Rojdeva\, soprano\nZlata Toshevska\, soprano\nAleksandra Lazarevska – Vasilevski\, soprano\nPavlina Novakova\, soprano\nPiano accompanist: Jordan Petrushevski
URL:https://operabalet.mk/en/event/bolero-maurice-ravel-ballet-performance-gala-opera-concert-4-11-2022/
LOCATION:Array
CATEGORIES:ballet,Concert
ATTACH;FMTTYPE=image/gif:https://operabalet.mk/en/wp-content/uploads/sites/2/2016/03/03.gif
END:VEVENT
END:VCALENDAR