BEGIN:VCALENDAR
VERSION:2.0
PRODID:-//National opera and ballet - ECPv4.0.7//NONSGML v1.0//EN
CALSCALE:GREGORIAN
METHOD:PUBLISH
X-WR-CALNAME:National opera and ballet
X-ORIGINAL-URL:https://operabalet.mk/en
X-WR-CALDESC:Events for National opera and ballet
BEGIN:VEVENT
DTSTART;TZID="UTC+0":20170405T200000
DTEND;TZID="UTC+0":20170405T220000
DTSTAMP:20260426T003923
CREATED:20170324T123021
LAST-MODIFIED:20170327T224358
UID:461-1491422400-1491429600@operabalet.mk
SUMMARY:BOURNONVILLE BALLET EVENING - PREMIERE
DESCRIPTION:(3 ballets with inspiration from France\, Italy and Spain)\n\n \n\nConductor: Bisera Chadlovska\nChoreographеr: August Bournonville (Denmark)\nMusic: H. S. Paulli\, H. C. Lumbye\,  V. C. Holm\, Е. Helsted\nStaged and Produced by Eva Kloborg and Frank Andersen (Denmark)\nSet designer: Zoran Nikolovski\nCostume designer: Marija Pupuchevska\nAssistant to the Producers: Sasha Evtimova\nConcert master and violin solo: Kliment Todoroski\n\n \n\nCAST:\n\n“The Conservatoire”\n\nMaster: Doychin Dochev (Bulgaria)\n\n2 Girls: Ivana Kocevska\, Diljana Janeva (Bulgaria)\n\n4 Men: Andrew Cook (England) \, Svetlin Stojanov (Bulgaria)\,  Andrej Litvinenko(Ukraine)\, Jan Kisilev\, Igor Velanoski\n\nЕnsemble: Dafina Daniloska-Kochevska\, Marina Anastasovska\, Romana Juhanesovichova\, Aleksandra Gjoreska\, Hristina Nakjevska\, Medina Jusufovikj\, Gabriela Pavlovska\, Bojana Hristovska\, Mila Ninovska\, Ilijana Danilov\, Angela Bogatinova\, Angela Velevska (Simona Mitovska\, Melanija Gocevska)\n\n8 Girls from DMBUC “Ilija Nikolovski-Luj”: Nina Blazhevski\, Angela Avramovski\, Jovana Vasilevska\, Mihaela Dushanski\, Stefi Zdravkovska\, Blerina Redzepi\, Lora Bednjanec\, Eva Desoska\n\n \n\n“The Flower Festival”:\n\nMimi Pop Aleksova-Atanasovska\, Marija Kichevska-Shokarovska\, Kento Terashita (Japan)\n\n \n\n“La Ventana”: \n\nSenorita: Marija Kichevska-Shokarovska\, Mimi Pop Aleksova-Atanasovska\n\nSenor: Boban Kovachevski\n\nPas de trois: Biljana Basmadzieva\, Romana Juhanesovichova\, Igor Velanoski\n\nМirror girl: Marija Josifovska\n\nЕnsemble: Agim Baftii\, Martin Sazdovski\, Kristijan Jangos\, Jan Kisilev\, Miroslav Mitrashinovikj\, Andrew Cook\, Nikola Orso\, Svetlin Stojanov\, (Borjan Tetiev\, Marko Arsov\, Kento Terashita)\n\nAndrijana Petkovski\, Simona Mitovska\, Brankica Jovevska\, Bistra Delinikolova\, Dijana Stojanovska\, Maja Kostovska\, Bojana Hristovska\, Nikita Dimchevska\, (Mila Ninovska\, Hristina Nakjevska\, Ivana Dimkoska\, Angela Velevska\, Angela Bogatinova\, Medina Jusufovikj\, Melanija Gocevska)\n\n \n\nMessage to the audience...\n\nIt is with great pleasure\, that we are presenting this ”Bournonville Ballet Night” to the Macedonian audience.\n\n \n\nIt is not the first time August Bournonville’s ballets are being performed in Skopje\, but it is the first time\, that we are producing en evening here. We are very happy for the invitation from the artistic director\, Olga Pango\, to work with the company and the dancers.\n\nBournonville is Danish and lived in Denmark from 1805 until 1877 and created more than 50 ballets. He was a visionary man\, that had much of his first education in France. He is the father of the Royal Danish Ballet and was artistic director there for more than 40 years. He created his own ballet vocabulary\, the Bournonville style and technique\, as a result of his education in France. Among his most famous ballets are ”Napoli” from 1842 and ”La Sylphide” from 1836.\n\nWe have chosen to present here in Macedonia a variety of his smaller ballets inspired by his travels and passion for foreign contries. ”The Conservatory” from 1849\, which is a tribute to his youth and education in France\, the Pas de Deux from ”The Flower Festival in Genzano” from 1858\, is inspired from his travels in Italy and ”La Ventana” from 1856 presents his interest and passion for Spain.\n\nWe hope\, that it has been a good challenge for the company to work on a different style and technique. It is purely classical ballet and not easy\, but the process\, we trust\, has been invaluable for the dancers. We also hope\, that we have given them something\, that they can use in their future career\, whichever ballets they are going to perform.\n\nFinally\, it is our great wish\, that you\, dear audience\, shall enjoy the performance and it shall give you an insight to a different side of ballet\, where ”Joie de Vivre” – the Joy of Life – is the most important thing.\n\nSo sit back and enjoy the world of August Bournonville.\n\n \n\nEva Kloborg and Frank Andersen
URL:https://operabalet.mk/en/event/bournonville-ballet-evening-premiere/
LOCATION:Blvd. Goce Delchev 4\, Skopje\, 1000\, Macedonia
CATEGORIES:ballet
ATTACH;FMTTYPE=image/gif:https://operabalet.mk/en/wp-content/uploads/sites/2/2016/03/02.gif
END:VEVENT
END:VCALENDAR