BEGIN:VCALENDAR
VERSION:2.0
PRODID:-//National opera and ballet - ECPv4.0.7//NONSGML v1.0//EN
CALSCALE:GREGORIAN
METHOD:PUBLISH
X-WR-CALNAME:National opera and ballet
X-ORIGINAL-URL:https://operabalet.mk/en
X-WR-CALDESC:Events for National opera and ballet
BEGIN:VEVENT
DTSTART;TZID="UTC+0":20200313T200000
DTEND;TZID="UTC+0":20200313T230000
DTSTAMP:20260423T182349
CREATED:20200219T131515
LAST-MODIFIED:20200311T103204
UID:981-1584129600-1584140400@operabalet.mk
SUMMARY:Canceled event - "Carmen" Georges Bizet (13.3.2020)
DESCRIPTION:In accordance with the latest recommendation by the Government of the Republic of North Macedonia to postpone public gatherings and events\, and to prevent further spread of the virus\, the National Opera and Ballet is informing the public that it is canceling all events and performances scheduled for the following period\, including 24 March 2020.\n\nWe will further advise you on extending our regular repertoire.\n\nFor more information regarding the tickets for the canceled performances of "Carmen"\, scheduled for 13.03.2020\, and the ballet "Scheherazade" scheduled for 17.3.2020\, please contact us on 02 3118 451 (ticketing office) or on 075 332 376 (marketing).\n\nSincerely\,\nNI National Opera and Ballet
URL:https://operabalet.mk/en/event/carmen-georges-bizet-13-3-2020/
LOCATION:Blvd. Goce Delchev 4\, Skopje\, 1000\, Macedonia
CATEGORIES:opera
ATTACH;FMTTYPE=image/png:https://operabalet.mk/en/wp-content/uploads/sites/2/2019/10/karmen-opera-ENG-12-10.png
END:VEVENT
END:VCALENDAR