BEGIN:VCALENDAR
VERSION:2.0
PRODID:-//National opera and ballet - ECPv4.0.7//NONSGML v1.0//EN
CALSCALE:GREGORIAN
METHOD:PUBLISH
X-WR-CALNAME:National opera and ballet
X-ORIGINAL-URL:https://operabalet.mk/en
X-WR-CALDESC:Events for National opera and ballet
BEGIN:VEVENT
DTSTART;TZID="UTC+0":20221216T200000
DTEND;TZID="UTC+0":20221216T212000
DTSTAMP:20260423T161150
CREATED:20221027T085636
LAST-MODIFIED:20221209T111036
UID:1238-1671220800-1671225600@operabalet.mk
SUMMARY:"Carmina Burana"- Carl Orff (16.12.2022)
DESCRIPTION:\nConductor: Bisera Chadlovska\nChoreographer and libretto: Khan Arslan\nOpera costume designer: Miodrag Tabachki (Serbia)\nBallet costume designer: Gizem Betil (Turkey)\nSet designer: Miodrag Tabachki (Serbia)\nConcert master: Kliment Todoroski\nTutors: Goran Bozinov\, Aleksandra Mijalkova\, Dafina Daniloska-Kochevska\, Sasha Evtimova\nChoir master: Jasmina Gjorgjevska\nAccompanists: Elena Siljanoska\, Janinka Nevcheva\,\nAndreja Naunov and Jordan Petrushevski\nStage managers: Ljupco Polizov\, Dragan Kostadinović\, Marko Pavlevski\nPrompter: Nevena Georgieva\nOpera soloists:\nSoprano: Nade Talevska\nBaritone: Vasko Zdravkov\nCounter tenor: Denis Dimoski\nBallet soloists:\nFire: Mimi Pop Alexova Atanasovska\nWind: Igor Velanoski (Francisco Jimenez Ruiz)\nFortune: Ivana Kocevska\nWater: Sasha Evtimova (Hristina Nacevska)\nEarth: Miroslav Mitrashinovikj (Bȧlazs Löcsei)\nPerformers: Choir\, ballet ensemble and orchestra of the National Opera and Ballet\nWhat is Carmina Burana? Stated in basic terms\, it is the ever lasting question about life’s joy\, freedom and passion\, still sung by traveling students and clergy. The 13th- century eponymous manuscript found in the 1803 in the Bavarian monastery Benedict-beaver was Orpheus inspiration: at last about twenty manuscripts became a concrete written proposal for this musical achievement. The composer does not consider a complete\, logical understanding of the various languages: searching the roots of the connections that exists between myth\, music and language\, he offers understanding in the interplay of all elements and the inevitable physical movement - rhythm. "The clearer and simpler the message - the more direct the end effect is.” The guiding principle of Orpheu's artistic conviction\, the strengths of his sound and rhythm\, derive from the experimental Ginter School of Gymnastics\, Music and Dance\, where he was co-founder in 1924 in Munich. The world of "Carmina Burana" is the desired world realized by the most willing ones. Where the fortune - happiness rules the world\, the sun and the god of love have power over all\, ever lasting\, strong\, unbreakable joy. Orpheus music and vision of theatrical magic become part of the ecstasy of the ancient Greek theater: it revives mysteries\, rituals\, Latin comedy and the folk theater. Carmina Burana has attracted the attention of directors and choreographers all around the world for years because of the appeal of syncretism that radiates as an inexhaustible source of opportunities for new ideas and inspirations.\n\n 
URL:https://operabalet.mk/en/event/carmina-burana-carl-orff-17-12-2022/
LOCATION:Array
CATEGORIES:ballet,opera
ATTACH;FMTTYPE=image/jpeg:https://operabalet.mk/en/wp-content/uploads/sites/2/2018/09/carmina_burana.jpg
END:VEVENT
END:VCALENDAR