BEGIN:VCALENDAR
VERSION:2.0
PRODID:-//National opera and ballet - ECPv4.0.7//NONSGML v1.0//EN
CALSCALE:GREGORIAN
METHOD:PUBLISH
X-WR-CALNAME:National opera and ballet
X-ORIGINAL-URL:https://operabalet.mk/en
X-WR-CALDESC:Events for National opera and ballet
BEGIN:VEVENT
DTSTART;TZID="UTC+0":20190402T200000
DTEND;TZID="UTC+0":20190402T210000
DTSTAMP:20260424T085553
CREATED:20190401T132819
LAST-MODIFIED:20190401T132819
UID:832-1554235200-1554238800@operabalet.mk
SUMMARY:"CARMINA BURANA" - Carl Orff - (2.4.2019)
DESCRIPTION:\n\nConductor: Bisera Chadlovska\nChoir master: Jasmina Gjorgjeska\, Gjurgjica Dashikj\nChoreography & libretto: Can Arslan (Turkey)\nAssistant coreographer: Ana Luisa Ferreira (Portugal)\nSet design: Miodrag Tabachki ( Serbia)\nBallet costume design: Gizem Betil (Turkey)\nOpera costume design: Elena Doncheva\nAssistant director: Dejan Proshev\nRépétiteur: Sasha Evtimova\,  Goran Bozhinov\nConcert master: Jane Bakevski \n\nOpera soloists: Katerina Stojanovska\, Goran Nachevski\, Dejan Stoev\n\nBallet soloists: Marija Kichevska Shokarovska\, Ivana Kocevska\, \nSasha Evtimova\, Davide Bufone (Italy)\, Miroslav Mitrashinovikj\n\nWith the choir\, orchestra and ballet ensemble of MOB
URL:https://operabalet.mk/en/event/carmina-burana-carl-orff-2-4-2019/
LOCATION:Array
CATEGORIES:ballet,opera
ATTACH;FMTTYPE=image/jpeg:https://operabalet.mk/en/wp-content/uploads/sites/2/2018/09/carmina_burana.jpg
END:VEVENT
END:VCALENDAR