BEGIN:VCALENDAR
VERSION:2.0
PRODID:-//National opera and ballet - ECPv4.0.7//NONSGML v1.0//EN
CALSCALE:GREGORIAN
METHOD:PUBLISH
X-WR-CALNAME:National opera and ballet
X-ORIGINAL-URL:https://operabalet.mk/en
X-WR-CALDESC:Events for National opera and ballet
BEGIN:VEVENT
DTSTART;TZID="UTC+0":20160617T200000
DTEND;TZID="UTC+0":20160617T210000
DTSTAMP:20260424T195933
CREATED:20160530T232316
LAST-MODIFIED:20160530T232316
UID:221-1466193600-1466197200@operabalet.mk
SUMMARY:CARMINA BURANA - Carl Orff  ( Center for culture - Prilep)
DESCRIPTION:Solosits:\n\nNade Talevska-Spasovska (soprano)\nIgor Durlovski (countertenor)\nMarjan Jovanoski (baritone)\n\nConductor: Ivan Eminovic\n\nAccompanied by the Orchestra and the Choir of MOB
URL:https://operabalet.mk/en/event/carmina-burana-carl-orff-center-for-culture-prilep/
LOCATION:Array
CATEGORIES:Concert
ATTACH;FMTTYPE=image/jpeg:https://operabalet.mk/en/wp-content/uploads/sites/2/2016/05/carmina-poklon1.jpg
END:VEVENT
END:VCALENDAR