BEGIN:VCALENDAR
VERSION:2.0
PRODID:-//National opera and ballet - ECPv4.0.7//NONSGML v1.0//EN
CALSCALE:GREGORIAN
METHOD:PUBLISH
X-WR-CALNAME:National opera and ballet
X-ORIGINAL-URL:https://operabalet.mk/en
X-WR-CALDESC:Events for National opera and ballet
BEGIN:VEVENT
DTSTART;TZID="UTC+0":20221125T190000
DTEND;TZID="UTC+0":20221125T203000
DTSTAMP:20260423T125958
CREATED:20221107T114637
LAST-MODIFIED:20221114T143736
UID:1251-1669402800-1669408200@operabalet.mk
SUMMARY:CINDERELLA - Sergei Prokofiev (25.11.2022)
DESCRIPTION:\nSergei Prokofiev\nCINDERELLA\nBALLET PREMIERE\n25.11.2022 – 7 PM\nA ballet performance for all ages\, a contemporary ballet in three scenes.\nChoreographer: Aleksandar Ilikj (Serbia)\nCostume designer: Katerina Radosevikj Galikj (Croatia)\nScenographer: Filip Korunovski\nSound Design: Georg Draushnik (Croatia)\nLight design: Milcho Aleksandrov\nAssistant - choreographer: Sasha Evtimova and Mojca Majcen (Slovenia)\nAss-costume designer: Angela Bogeska\nRepetitours: Sasha Evtimova and Biljana Pasharikovska\nPerforming:\nCinderella: Hristina Nakjevska\, Biljana Basmadzieva Kovachevski\, Simona Mitovska\, Natasha Trendafilov – Gicev\nPrince: Igor Velanoski\, Balazs Locsei (Hungary)\nPERFORMING SOLOISTS AND THE BALLET ENSEMBLE OF THE NATIONAL OPERA AND BALLET\n"Cinderella" short synopsis\n...And they lived happily ever after\, because love is in the air....but before that they should have met....\nIn a small but famous town\, on the main square\, where the "Villa Heart" monument is located\, friends meet\, boys fall in love with girls\, the chimney sweep takes a break in his schedule\, and a girl named Cinderella in her tender palms carries a suitcase full of dreams. Waiting for her father\, who has sent her a letter\, she looks forward to the meeting and going to the shared warm home\, a home where no one loves her\, but her dreams never leave her.\nWith the help of the wise Willies and a little magic\, she's ready for a ball she's not invited to. At the ball is the favorite and most beautiful girl\, with whom all the boys are in love\, there is also the real one - the prince of her dreams.\nThe rule is that all good girls must be in their homes before midnight.\nIntoxicated by dance\, laughter\, by the prince and his company\, she forgets the time and exactly at midnight the bad dream begins.\nIn the Whirlwind of the Dance\, midnight strikes\, Cinderella loses her prince\, her sanity\, but also her one shoe.\nThe prince finds the shoe by chance\, but he doesn't know the girl's name or where she lives.\nHe announces a search in the city for the girl who lost her shoe\, with the promise that if he finds the girl\, he will marry her and she will become a princess.\nWhether the story had a happy ending\, not even the Fairy Heart knew that\, because all the girls lost one shoe each\, believing in their wishes and dreams.\nEveryone lived happily ever after\, or even longer\, according to this story.\nVery\, very happy\, because Love is in the Air....
URL:https://operabalet.mk/en/event/cinderella-sergei-prokofiev-25-11-2022/
LOCATION:Array
CATEGORIES:ballet
ATTACH;FMTTYPE=image/jpeg:https://operabalet.mk/en/wp-content/uploads/sites/2/2022/11/pepelashka_slide1.jpg
END:VEVENT
END:VCALENDAR