BEGIN:VCALENDAR
VERSION:2.0
PRODID:-//National opera and ballet - ECPv4.0.7//NONSGML v1.0//EN
CALSCALE:GREGORIAN
METHOD:PUBLISH
X-WR-CALNAME:National opera and ballet
X-ORIGINAL-URL:https://operabalet.mk/en
X-WR-CALDESC:Events for National opera and ballet
BEGIN:VEVENT
DTSTART;TZID="UTC+0":20170309T200000
DTEND;TZID="UTC+0":20170309T230000
DTSTAMP:20260425T160255
CREATED:20170223T154312
LAST-MODIFIED:20170223T204403
UID:447-1489089600-1489100400@operabalet.mk
SUMMARY:Cleopatra -ballet by Vasily Medvedev (09.03.2017)
DESCRIPTION:\n\nChoreographer: Vasily Medvedev (Russia)\nAss. Choreograph: Stanislav Feco (Czech Republic)\nStage and costume design: Pavol Juras (Slovakia)\nMusic: Neria Cepaite Goldberg (Lithuania)\nLibretto: Yana Temiz (Turkey)\nConductor: Bisera Chadlovska\n\nCAST:\n\nCleopatra: Aleksandra Mijalkova\nCesar: Vasil Chichiashvili (Georgia)\nMarco Antonio: Boban Kovachevski\nOctavia: Marija Kichevska-Shokarovska\nThe Snake: Mimi Pop Aleksova- Atanasovska\nOctavian: Kiro Pavlov\nApollodorus: Doychin Dochev (Bulgaria)\n\nQuartet Slaves: Biljana Basmadzieva\, Dafina Daniloska-Kocevska\, Maja Mitrovska-Bogojevska\, Marina Anastasovska\n\nQuartet WARRRIORS: Igor Velanoski\, Jan Kisilev\,Endry Kuk\, Andrej Litvinenko\, Tetsua Imura\, Svetlin Stojanov\n\nSolo Bacchanalia: Sasha Evtimova\, Igor Velanoski\n\nSolo entrance of Cleopatra: Mimi Pop Aleksova-Atanasovska\, Marija Josifovska-Ristovska\,Ivana Kocevska\, Sasha Evtimova \,Andrijana Petkovski\, Igor Velanoski\, Tetsua Imura\n\nPriest: Kiro Pavlov\nTheodot: Goran Bozhinov\nPotin: Viktor Karaev\n\nWith the Orchestra and Choir of the Macedonian Opera and Ballet
URL:https://operabalet.mk/en/event/cleopatra-ballet-by-vasily-medvedev-09-03-2017/
LOCATION:Blvd. Goce Delchev 4\, Skopje\, 1000\, Macedonia
CATEGORIES:ballet
ATTACH;FMTTYPE=image/jpeg:https://operabalet.mk/en/wp-content/uploads/sites/2/2016/10/Web-banner-2-876x390-ENG.jpg
END:VEVENT
END:VCALENDAR