BEGIN:VCALENDAR
VERSION:2.0
PRODID:-//National opera and ballet - ECPv4.0.7//NONSGML v1.0//EN
CALSCALE:GREGORIAN
METHOD:PUBLISH
X-WR-CALNAME:National opera and ballet
X-ORIGINAL-URL:https://operabalet.mk/en
X-WR-CALDESC:Events for National opera and ballet
BEGIN:VEVENT
DTSTART;TZID="UTC+0":20190308T200000
DTEND;TZID="UTC+0":20190308T230000
DTSTAMP:20260424T112903
CREATED:20190217T215520
LAST-MODIFIED:20190217T215623
UID:813-1552075200-1552086000@operabalet.mk
SUMMARY:Cleopatra -ballet by Vasily Medvedev (8.3.2019)
DESCRIPTION:\n\nChoreographer: Vasily Medvedev (Russia)\nMusic: Neria Cepaite Goldberg (Lithuania)\nConductor: Bisera Chadlovska\nAss. Choreograph: Stanislav Feco (Czech Republic)\nStage and costume design: Pavol Juras (Slovakia)\nLibretto: Yana Temiz (Turkey)\nConcert master:\nRepetitours: Goran Bozhinov\, Lara Tarchugovska. Biljana Pashaeikovska\n\nCAST:\n\nCleopatra: Aleksandra Mijalkova\nCesar: Vasil Chichiashvili (Georgia)\nMarco Antonio: Boban Kovachevski\nOctavia: Marija Kichevska-Shokarovska\nThe Snake: Mimi Pop Aleksova- Atanasovska\nOctavian: Andrii Lytvinenko (Ukraine)\nApolodor: Miroslav Mitrashinovikj\n\nWith the Orchestra and Choir of the Macedonian Opera and Ballet
URL:https://operabalet.mk/en/event/cleopatra-ballet-by-vasily-medvedev-8-3-2019/
LOCATION:Blvd. Goce Delchev 4\, Skopje\, 1000\, Macedonia
CATEGORIES:ballet
ATTACH;FMTTYPE=image/jpeg:https://operabalet.mk/en/wp-content/uploads/sites/2/2017/04/cleoptara-majski1-e1504704434109.jpg
END:VEVENT
END:VCALENDAR