BEGIN:VCALENDAR
VERSION:2.0
PRODID:-//National opera and ballet - ECPv4.0.7//NONSGML v1.0//EN
CALSCALE:GREGORIAN
METHOD:PUBLISH
X-WR-CALNAME:National opera and ballet
X-ORIGINAL-URL:https://operabalet.mk/en
X-WR-CALDESC:Events for National opera and ballet
BEGIN:VEVENT
DTSTART;TZID="UTC+0":20161022T200000
DTEND;TZID="UTC+0":20161022T210000
DTSTAMP:20260426T013641
CREATED:20161004T173657
LAST-MODIFIED:20161014T220017
UID:295-1477166400-1477170000@operabalet.mk
SUMMARY:CONCERT - Giampiero Sobrino – clarinet ( Italy)
DESCRIPTION:\n\nConcert with Giampiero Sobrino (clarinet) and Slavica Galikj Petrovska (soprano) at the Army Hall\n\nConductor: Bisera Chadlovska\nDirector: Dejan Proshev\nConcert master: Verica Lambevska
URL:https://operabalet.mk/en/event/concert-giampiero-sobrino-clarinet-italy/
LOCATION:Blvd. Goce Delchev 4\, Skopje\, 1000\, Macedonia
CATEGORIES:Concert
ATTACH;FMTTYPE=image/jpeg:https://operabalet.mk/en/wp-content/uploads/sites/2/2016/10/sobrino-web-2.jpg
END:VEVENT
END:VCALENDAR